BEGIN:VCALENDAR
VERSION:2.0
PRODID:-//BSV Mittelfranken - ECPv6.15.20//NONSGML v1.0//EN
CALSCALE:GREGORIAN
METHOD:PUBLISH
X-WR-CALNAME:BSV Mittelfranken
X-ORIGINAL-URL:https://bsv-mittelfranken.de
X-WR-CALDESC:Veranstaltungen für BSV Mittelfranken
REFRESH-INTERVAL;VALUE=DURATION:PT1H
X-Robots-Tag:noindex
X-PUBLISHED-TTL:PT1H
BEGIN:VTIMEZONE
TZID:Europe/Berlin
BEGIN:DAYLIGHT
TZOFFSETFROM:+0100
TZOFFSETTO:+0200
TZNAME:CEST
DTSTART:20250330T010000
END:DAYLIGHT
BEGIN:STANDARD
TZOFFSETFROM:+0200
TZOFFSETTO:+0100
TZNAME:CET
DTSTART:20251026T010000
END:STANDARD
BEGIN:DAYLIGHT
TZOFFSETFROM:+0100
TZOFFSETTO:+0200
TZNAME:CEST
DTSTART:20260329T010000
END:DAYLIGHT
BEGIN:STANDARD
TZOFFSETFROM:+0200
TZOFFSETTO:+0100
TZNAME:CET
DTSTART:20261025T010000
END:STANDARD
BEGIN:DAYLIGHT
TZOFFSETFROM:+0100
TZOFFSETTO:+0200
TZNAME:CEST
DTSTART:20270328T010000
END:DAYLIGHT
BEGIN:STANDARD
TZOFFSETFROM:+0200
TZOFFSETTO:+0100
TZNAME:CET
DTSTART:20271031T010000
END:STANDARD
END:VTIMEZONE
BEGIN:VEVENT
DTSTART;VALUE=DATE:20260423
DTEND;VALUE=DATE:20260427
DTSTAMP:20260420T113935
CREATED:20251012T090142Z
LAST-MODIFIED:20251012T090142Z
UID:6091-1776902400-1777247999@bsv-mittelfranken.de
SUMMARY:Deutsche Meisterschaften
DESCRIPTION:
URL:https://bsv-mittelfranken.de/event/deutsche-meisterschaften
LOCATION:SSE Schwimmhalle Berlin
CATEGORIES:Schwimmen
END:VEVENT
BEGIN:VEVENT
DTSTART;VALUE=DATE:20260425
DTEND;VALUE=DATE:20260426
DTSTAMP:20260420T113935
CREATED:20251012T090206Z
LAST-MODIFIED:20251012T090206Z
UID:6093-1777075200-1777161599@bsv-mittelfranken.de
SUMMARY:Nürnberger Schwimmfest
DESCRIPTION:
URL:https://bsv-mittelfranken.de/event/nuernberger-schwimmfest-2
LOCATION:Langwasserbad Nürnberg\, Breslauer Str. 251\, Nürnberg\, Bayern\, 90471\, Deutschland
CATEGORIES:Schwimmen
END:VEVENT
END:VCALENDAR