BEGIN:VCALENDAR
VERSION:2.0
PRODID:-//BSV Mittelfranken - ECPv6.15.20//NONSGML v1.0//EN
CALSCALE:GREGORIAN
METHOD:PUBLISH
X-WR-CALNAME:BSV Mittelfranken
X-ORIGINAL-URL:https://bsv-mittelfranken.de
X-WR-CALDESC:Veranstaltungen für BSV Mittelfranken
REFRESH-INTERVAL;VALUE=DURATION:PT1H
X-Robots-Tag:noindex
X-PUBLISHED-TTL:PT1H
BEGIN:VTIMEZONE
TZID:Europe/Berlin
BEGIN:DAYLIGHT
TZOFFSETFROM:+0100
TZOFFSETTO:+0200
TZNAME:CEST
DTSTART:20250330T010000
END:DAYLIGHT
BEGIN:STANDARD
TZOFFSETFROM:+0200
TZOFFSETTO:+0100
TZNAME:CET
DTSTART:20251026T010000
END:STANDARD
BEGIN:DAYLIGHT
TZOFFSETFROM:+0100
TZOFFSETTO:+0200
TZNAME:CEST
DTSTART:20260329T010000
END:DAYLIGHT
BEGIN:STANDARD
TZOFFSETFROM:+0200
TZOFFSETTO:+0100
TZNAME:CET
DTSTART:20261025T010000
END:STANDARD
BEGIN:DAYLIGHT
TZOFFSETFROM:+0100
TZOFFSETTO:+0200
TZNAME:CEST
DTSTART:20270328T010000
END:DAYLIGHT
BEGIN:STANDARD
TZOFFSETFROM:+0200
TZOFFSETTO:+0100
TZNAME:CET
DTSTART:20271031T010000
END:STANDARD
END:VTIMEZONE
BEGIN:VEVENT
DTSTART;VALUE=DATE:20261102
DTEND;VALUE=DATE:20261106
DTSTAMP:20260420T220318
CREATED:20260414T122106Z
LAST-MODIFIED:20260414T122206Z
UID:6596-1793577600-1793923199@bsv-mittelfranken.de
SUMMARY:Grundausbildung Anfängerschwimmen 2026-2
DESCRIPTION:Zur Anmeldung: \nBildung
URL:https://bsv-mittelfranken.de/event/grundausbildung-anfaengerschwimmen-2026-2
LOCATION:Nürnberg\, Nürnberg
CATEGORIES:Bezirk,Lehrwesen
END:VEVENT
BEGIN:VEVENT
DTSTART;TZID=Europe/Berlin:20261107T090000
DTEND;TZID=Europe/Berlin:20261107T180000
DTSTAMP:20260420T220318
CREATED:20260315T195413Z
LAST-MODIFIED:20260315T195413Z
UID:6567-1794042000-1794074400@bsv-mittelfranken.de
SUMMARY:Kamprichterausbildung Lehrgang WKR 26-11-07
DESCRIPTION:Ausschreibung
URL:https://bsv-mittelfranken.de/event/kamprichterausbildung-lehrgang-wkr-26-11-07
LOCATION:Sportgaststätte Tuspo Heroldsberg\, Sportplatzweg 12\, Heroldsberg\, 90562
CATEGORIES:Kampfrichter
END:VEVENT
BEGIN:VEVENT
DTSTART;VALUE=DATE:20261114
DTEND;VALUE=DATE:20261115
DTSTAMP:20260420T220318
CREATED:20260225T191854Z
LAST-MODIFIED:20260225T192358Z
UID:6536-1794614400-1794700799@bsv-mittelfranken.de
SUMMARY:Bezirkstag
DESCRIPTION:Einladung erfolgt …
URL:https://bsv-mittelfranken.de/event/bezirkstag
LOCATION:Sportgaststätte Tuspo Heroldsberg\, Sportplatzweg 12\, Heroldsberg\, 90562
CATEGORIES:Bezirk
END:VEVENT
END:VCALENDAR