BEGIN:VCALENDAR
VERSION:2.0
PRODID:-//BSV Mittelfranken - ECPv6.15.20//NONSGML v1.0//EN
CALSCALE:GREGORIAN
METHOD:PUBLISH
X-ORIGINAL-URL:https://bsv-mittelfranken.de
X-WR-CALDESC:Veranstaltungen für BSV Mittelfranken
REFRESH-INTERVAL;VALUE=DURATION:PT1H
X-Robots-Tag:noindex
X-PUBLISHED-TTL:PT1H
BEGIN:VTIMEZONE
TZID:Europe/Berlin
BEGIN:DAYLIGHT
TZOFFSETFROM:+0100
TZOFFSETTO:+0200
TZNAME:CEST
DTSTART:20250330T010000
END:DAYLIGHT
BEGIN:STANDARD
TZOFFSETFROM:+0200
TZOFFSETTO:+0100
TZNAME:CET
DTSTART:20251026T010000
END:STANDARD
BEGIN:DAYLIGHT
TZOFFSETFROM:+0100
TZOFFSETTO:+0200
TZNAME:CEST
DTSTART:20260329T010000
END:DAYLIGHT
BEGIN:STANDARD
TZOFFSETFROM:+0200
TZOFFSETTO:+0100
TZNAME:CET
DTSTART:20261025T010000
END:STANDARD
BEGIN:DAYLIGHT
TZOFFSETFROM:+0100
TZOFFSETTO:+0200
TZNAME:CEST
DTSTART:20270328T010000
END:DAYLIGHT
BEGIN:STANDARD
TZOFFSETFROM:+0200
TZOFFSETTO:+0100
TZNAME:CET
DTSTART:20271031T010000
END:STANDARD
END:VTIMEZONE
BEGIN:VEVENT
DTSTART;VALUE=DATE:20260919
DTEND;VALUE=DATE:20260920
DTSTAMP:20260420T190502
CREATED:20251012T090944Z
LAST-MODIFIED:20251012T090944Z
UID:6123-1789776000-1789862399@bsv-mittelfranken.de
SUMMARY:Trainertagung
DESCRIPTION:
URL:https://bsv-mittelfranken.de/event/trainertagung
CATEGORIES:Schwimmen
END:VEVENT
BEGIN:VEVENT
DTSTART;VALUE=DATE:20260920
DTEND;VALUE=DATE:20260921
DTSTAMP:20260420T190502
CREATED:20251012T091007Z
LAST-MODIFIED:20251012T091007Z
UID:6125-1789862400-1789948799@bsv-mittelfranken.de
SUMMARY:Fachausschusssitzung
DESCRIPTION:
URL:https://bsv-mittelfranken.de/event/fachausschusssitzung-2
CATEGORIES:Schwimmen
END:VEVENT
BEGIN:VEVENT
DTSTART;TZID=Europe/Berlin:20260923T193000
DTEND;TZID=Europe/Berlin:20260923T223000
DTSTAMP:20260420T190502
CREATED:20251012T091041Z
LAST-MODIFIED:20251012T091041Z
UID:6127-1790191800-1790202600@bsv-mittelfranken.de
SUMMARY:Technikersitzung
DESCRIPTION:
URL:https://bsv-mittelfranken.de/event/technikersitzung-6
CATEGORIES:Schwimmen
END:VEVENT
END:VCALENDAR