BEGIN:VCALENDAR
VERSION:2.0
PRODID:-//BSV Mittelfranken - ECPv6.15.20//NONSGML v1.0//EN
CALSCALE:GREGORIAN
METHOD:PUBLISH
X-ORIGINAL-URL:https://bsv-mittelfranken.de
X-WR-CALDESC:Veranstaltungen für BSV Mittelfranken
REFRESH-INTERVAL;VALUE=DURATION:PT1H
X-Robots-Tag:noindex
X-PUBLISHED-TTL:PT1H
BEGIN:VTIMEZONE
TZID:Europe/Berlin
BEGIN:DAYLIGHT
TZOFFSETFROM:+0100
TZOFFSETTO:+0200
TZNAME:CEST
DTSTART:20250330T010000
END:DAYLIGHT
BEGIN:STANDARD
TZOFFSETFROM:+0200
TZOFFSETTO:+0100
TZNAME:CET
DTSTART:20251026T010000
END:STANDARD
BEGIN:DAYLIGHT
TZOFFSETFROM:+0100
TZOFFSETTO:+0200
TZNAME:CEST
DTSTART:20260329T010000
END:DAYLIGHT
BEGIN:STANDARD
TZOFFSETFROM:+0200
TZOFFSETTO:+0100
TZNAME:CET
DTSTART:20261025T010000
END:STANDARD
BEGIN:DAYLIGHT
TZOFFSETFROM:+0100
TZOFFSETTO:+0200
TZNAME:CEST
DTSTART:20270328T010000
END:DAYLIGHT
BEGIN:STANDARD
TZOFFSETFROM:+0200
TZOFFSETTO:+0100
TZNAME:CET
DTSTART:20271031T010000
END:STANDARD
END:VTIMEZONE
BEGIN:VEVENT
DTSTART;VALUE=DATE:20260509
DTEND;VALUE=DATE:20260511
DTSTAMP:20260420T124957
CREATED:20251012T090252Z
LAST-MODIFIED:20251012T090252Z
UID:6095-1778284800-1778457599@bsv-mittelfranken.de
SUMMARY:Erlanger Sparkassen-Cup
DESCRIPTION:
URL:https://bsv-mittelfranken.de/event/erlanger-sparkassen-cup
LOCATION:Erlangen
CATEGORIES:Schwimmen
END:VEVENT
BEGIN:VEVENT
DTSTART;VALUE=DATE:20260522
DTEND;VALUE=DATE:20260525
DTSTAMP:20260420T124957
CREATED:20251012T090324Z
LAST-MODIFIED:20251012T090324Z
UID:6097-1779408000-1779667199@bsv-mittelfranken.de
SUMMARY:Süddeutsche (Jg-) Meisterschaften
DESCRIPTION:
URL:https://bsv-mittelfranken.de/event/sueddeutsche-jg-meisterschaften
CATEGORIES:Schwimmen
END:VEVENT
BEGIN:VEVENT
DTSTART;VALUE=DATE:20260523
DTEND;VALUE=DATE:20260524
DTSTAMP:20260420T124957
CREATED:20251012T090349Z
LAST-MODIFIED:20251012T090349Z
UID:6099-1779494400-1779580799@bsv-mittelfranken.de
SUMMARY:Katzwang-Cup
DESCRIPTION:
URL:https://bsv-mittelfranken.de/event/katzwang-cup-4
LOCATION:Katzwangbad\, Helmut-Bloß-Str. 6\, Nürnberg\, 90453
CATEGORIES:Schwimmen
END:VEVENT
END:VCALENDAR