BEGIN:VCALENDAR
VERSION:2.0
PRODID:-//BSV Mittelfranken - ECPv6.15.20//NONSGML v1.0//EN
CALSCALE:GREGORIAN
METHOD:PUBLISH
X-ORIGINAL-URL:https://bsv-mittelfranken.de
X-WR-CALDESC:Veranstaltungen für BSV Mittelfranken
REFRESH-INTERVAL;VALUE=DURATION:PT1H
X-Robots-Tag:noindex
X-PUBLISHED-TTL:PT1H
BEGIN:VTIMEZONE
TZID:Europe/Berlin
BEGIN:DAYLIGHT
TZOFFSETFROM:+0100
TZOFFSETTO:+0200
TZNAME:CEST
DTSTART:20250330T010000
END:DAYLIGHT
BEGIN:STANDARD
TZOFFSETFROM:+0200
TZOFFSETTO:+0100
TZNAME:CET
DTSTART:20251026T010000
END:STANDARD
BEGIN:DAYLIGHT
TZOFFSETFROM:+0100
TZOFFSETTO:+0200
TZNAME:CEST
DTSTART:20260329T010000
END:DAYLIGHT
BEGIN:STANDARD
TZOFFSETFROM:+0200
TZOFFSETTO:+0100
TZNAME:CET
DTSTART:20261025T010000
END:STANDARD
BEGIN:DAYLIGHT
TZOFFSETFROM:+0100
TZOFFSETTO:+0200
TZNAME:CEST
DTSTART:20270328T010000
END:DAYLIGHT
BEGIN:STANDARD
TZOFFSETFROM:+0200
TZOFFSETTO:+0100
TZNAME:CET
DTSTART:20271031T010000
END:STANDARD
END:VTIMEZONE
BEGIN:VEVENT
DTSTART;VALUE=DATE:20260228
DTEND;VALUE=DATE:20260302
DTSTAMP:20260420T130035
CREATED:20251012T085751Z
LAST-MODIFIED:20251012T085751Z
UID:6078-1772236800-1772409599@bsv-mittelfranken.de
SUMMARY:März-Meeting
DESCRIPTION:
URL:https://bsv-mittelfranken.de/event/maerz-meeting-2
LOCATION:Langwasserbad Nürnberg\, Breslauer Str. 251\, Nürnberg\, Bayern\, 90471\, Deutschland
CATEGORIES:Schwimmen
END:VEVENT
BEGIN:VEVENT
DTSTART;VALUE=DATE:20260307
DTEND;VALUE=DATE:20260309
DTSTAMP:20260420T130035
CREATED:20251012T085831Z
LAST-MODIFIED:20260111T102035Z
UID:6080-1772841600-1773014399@bsv-mittelfranken.de
SUMMARY:International Swim Meeting 2026
DESCRIPTION:
URL:https://bsv-mittelfranken.de/event/international-swim-meeting-2026
LOCATION:Erlangen
CATEGORIES:Schwimmen
END:VEVENT
BEGIN:VEVENT
DTSTART;VALUE=DATE:20260314
DTEND;VALUE=DATE:20260316
DTSTAMP:20260420T130035
CREATED:20251012T085909Z
LAST-MODIFIED:20251012T085909Z
UID:6082-1773446400-1773619199@bsv-mittelfranken.de
SUMMARY:Bay. Meisterschaften Masters
DESCRIPTION:
URL:https://bsv-mittelfranken.de/event/bay-meisterschaften-masters
LOCATION:Pfaffenhofen
CATEGORIES:Schwimmen
END:VEVENT
BEGIN:VEVENT
DTSTART;VALUE=DATE:20260314
DTEND;VALUE=DATE:20260315
DTSTAMP:20260420T130035
CREATED:20251012T085931Z
LAST-MODIFIED:20251012T085931Z
UID:6085-1773446400-1773532799@bsv-mittelfranken.de
SUMMARY:Kreismeisterschaften Süd-West
DESCRIPTION:
URL:https://bsv-mittelfranken.de/event/kreismeisterschaften-sued-west-4
LOCATION:Fürth
CATEGORIES:Schwimmen
END:VEVENT
BEGIN:VEVENT
DTSTART;VALUE=DATE:20260315
DTEND;VALUE=DATE:20260316
DTSTAMP:20260420T130035
CREATED:20251226T023824Z
LAST-MODIFIED:20260109T112055Z
UID:6412-1773532800-1773619199@bsv-mittelfranken.de
SUMMARY:Trainer-C-Fortbildung Schwimmen
DESCRIPTION:15.03.2026 \n8UE \nFürth \nFortbildung für: Trainer C Schwimmen \nSchwerpunkt: Schulter des Sportlers \nZur Anmeldung und Ausschreibung: https://bsv-mittelfranken.de/bildung
URL:https://bsv-mittelfranken.de/event/trainer-c-fortbildung-schwimmen
LOCATION:Fürth
CATEGORIES:Bezirk,Lehrwesen,Schwimmen
END:VEVENT
BEGIN:VEVENT
DTSTART;VALUE=DATE:20260320
DTEND;VALUE=DATE:20260323
DTSTAMP:20260420T130035
CREATED:20251012T090004Z
LAST-MODIFIED:20251012T090004Z
UID:6087-1773964800-1774223999@bsv-mittelfranken.de
SUMMARY:Bay. Meisterschaften Offen
DESCRIPTION:
URL:https://bsv-mittelfranken.de/event/bay-meisterschaften-offen
CATEGORIES:Schwimmen
END:VEVENT
BEGIN:VEVENT
DTSTART;TZID=Europe/Berlin:20260328T090000
DTEND;TZID=Europe/Berlin:20260328T170000
DTSTAMP:20260420T130035
CREATED:20251025T120708Z
LAST-MODIFIED:20251025T120708Z
UID:6155-1774688400-1774717200@bsv-mittelfranken.de
SUMMARY:Kampfrichter Ausbildung – Lehrgang WKR 26-03-28
DESCRIPTION:Ausschreibung
URL:https://bsv-mittelfranken.de/event/kampfrichter-ausbildung-lehrgang-wkr-26-03-28
LOCATION:Sportgaststätte Tuspo Heroldsberg\, Sportplatzweg 12\, Heroldsberg\, 90562
CATEGORIES:Lehrwesen
END:VEVENT
BEGIN:VEVENT
DTSTART;VALUE=DATE:20260330
DTEND;VALUE=DATE:20260403
DTSTAMP:20260420T130035
CREATED:20251126T121301Z
LAST-MODIFIED:20260109T112048Z
UID:6309-1774828800-1775174399@bsv-mittelfranken.de
SUMMARY:Grundausbildung Anfängerschwimmen 2026-1
DESCRIPTION:Zur Anmeldung und Ausschreibung: https://bsv-mittelfranken.de/bildung \nNach der Anmeldung durch den Teilnehmer/die Teilnehmerin muss die Freigabe durch den Verein im BSV Vereinsportal erfolgen. Ansonsten wird die Anmeldung nicht berücksichtigt! \n40UE\nNürnberg-Langwasser
URL:https://bsv-mittelfranken.de/event/grundausbildung-anfaengerschwimmen-2026-1
LOCATION:Nürnberg\, Nürnberg
CATEGORIES:Bezirk,Lehrwesen
END:VEVENT
END:VCALENDAR