BEGIN:VCALENDAR
VERSION:2.0
PRODID:-//BSV Mittelfranken - ECPv6.15.20//NONSGML v1.0//EN
CALSCALE:GREGORIAN
METHOD:PUBLISH
X-ORIGINAL-URL:https://bsv-mittelfranken.de
X-WR-CALDESC:Veranstaltungen für BSV Mittelfranken
REFRESH-INTERVAL;VALUE=DURATION:PT1H
X-Robots-Tag:noindex
X-PUBLISHED-TTL:PT1H
BEGIN:VTIMEZONE
TZID:Europe/Berlin
BEGIN:DAYLIGHT
TZOFFSETFROM:+0100
TZOFFSETTO:+0200
TZNAME:CEST
DTSTART:20250330T010000
END:DAYLIGHT
BEGIN:STANDARD
TZOFFSETFROM:+0200
TZOFFSETTO:+0100
TZNAME:CET
DTSTART:20251026T010000
END:STANDARD
BEGIN:DAYLIGHT
TZOFFSETFROM:+0100
TZOFFSETTO:+0200
TZNAME:CEST
DTSTART:20260329T010000
END:DAYLIGHT
BEGIN:STANDARD
TZOFFSETFROM:+0200
TZOFFSETTO:+0100
TZNAME:CET
DTSTART:20261025T010000
END:STANDARD
BEGIN:DAYLIGHT
TZOFFSETFROM:+0100
TZOFFSETTO:+0200
TZNAME:CEST
DTSTART:20270328T010000
END:DAYLIGHT
BEGIN:STANDARD
TZOFFSETFROM:+0200
TZOFFSETTO:+0100
TZNAME:CET
DTSTART:20271031T010000
END:STANDARD
END:VTIMEZONE
BEGIN:VEVENT
DTSTART;VALUE=DATE:20260207
DTEND;VALUE=DATE:20260209
DTSTAMP:20260420T141210
CREATED:20251012T085648Z
LAST-MODIFIED:20251012T085648Z
UID:6074-1770422400-1770595199@bsv-mittelfranken.de
SUMMARY:International Swim Cup
DESCRIPTION:
URL:https://bsv-mittelfranken.de/event/international-swim-cup
LOCATION:Ingolstadt
CATEGORIES:Schwimmen
END:VEVENT
BEGIN:VEVENT
DTSTART;VALUE=DATE:20260221
DTEND;VALUE=DATE:20260223
DTSTAMP:20260420T141210
CREATED:20251012T085711Z
LAST-MODIFIED:20251012T085711Z
UID:6076-1771632000-1771804799@bsv-mittelfranken.de
SUMMARY:Süddeutsche Meisterschaften Lange Strecke
DESCRIPTION:
URL:https://bsv-mittelfranken.de/event/sueddeutsche-meisterschaften-lange-strecke-3
CATEGORIES:Schwimmen
END:VEVENT
BEGIN:VEVENT
DTSTART;VALUE=DATE:20260228
DTEND;VALUE=DATE:20260302
DTSTAMP:20260420T141210
CREATED:20251012T085751Z
LAST-MODIFIED:20251012T085751Z
UID:6078-1772236800-1772409599@bsv-mittelfranken.de
SUMMARY:März-Meeting
DESCRIPTION:
URL:https://bsv-mittelfranken.de/event/maerz-meeting-2
LOCATION:Langwasserbad Nürnberg\, Breslauer Str. 251\, Nürnberg\, Bayern\, 90471\, Deutschland
CATEGORIES:Schwimmen
END:VEVENT
END:VCALENDAR