BEGIN:VCALENDAR
VERSION:2.0
PRODID:-//BSV Mittelfranken - ECPv6.15.20//NONSGML v1.0//EN
CALSCALE:GREGORIAN
METHOD:PUBLISH
X-ORIGINAL-URL:https://bsv-mittelfranken.de
X-WR-CALDESC:Veranstaltungen für BSV Mittelfranken
REFRESH-INTERVAL;VALUE=DURATION:PT1H
X-Robots-Tag:noindex
X-PUBLISHED-TTL:PT1H
BEGIN:VTIMEZONE
TZID:Europe/Berlin
BEGIN:DAYLIGHT
TZOFFSETFROM:+0100
TZOFFSETTO:+0200
TZNAME:CEST
DTSTART:20250330T010000
END:DAYLIGHT
BEGIN:STANDARD
TZOFFSETFROM:+0200
TZOFFSETTO:+0100
TZNAME:CET
DTSTART:20251026T010000
END:STANDARD
BEGIN:DAYLIGHT
TZOFFSETFROM:+0100
TZOFFSETTO:+0200
TZNAME:CEST
DTSTART:20260329T010000
END:DAYLIGHT
BEGIN:STANDARD
TZOFFSETFROM:+0200
TZOFFSETTO:+0100
TZNAME:CET
DTSTART:20261025T010000
END:STANDARD
BEGIN:DAYLIGHT
TZOFFSETFROM:+0100
TZOFFSETTO:+0200
TZNAME:CEST
DTSTART:20270328T010000
END:DAYLIGHT
BEGIN:STANDARD
TZOFFSETFROM:+0200
TZOFFSETTO:+0100
TZNAME:CET
DTSTART:20271031T010000
END:STANDARD
END:VTIMEZONE
BEGIN:VEVENT
DTSTART;VALUE=DATE:20260110
DTEND;VALUE=DATE:20260112
DTSTAMP:20260420T152216
CREATED:20250726T125214Z
LAST-MODIFIED:20250828T214620Z
UID:5858-1768003200-1768175999@bsv-mittelfranken.de
SUMMARY:Trainer C Modul 3: Breitensport Schwimmen (3/3)
DESCRIPTION:Zur Ausschreibung: LINK \nZur Anmeldung: LINK \nAnmeldung ausschließlich über BSV Landesverband! Lg.Nr.: 2025-737
URL:https://bsv-mittelfranken.de/event/trainer-c-modul-3-breitensport-schwimmen-3-3
LOCATION:Nürnberg\, Nürnberg
CATEGORIES:Lehrwesen
END:VEVENT
BEGIN:VEVENT
DTSTART;VALUE=DATE:20260110
DTEND;VALUE=DATE:20260111
DTSTAMP:20260420T152216
CREATED:20251012T085406Z
LAST-MODIFIED:20251012T085406Z
UID:6063-1768003200-1768089599@bsv-mittelfranken.de
SUMMARY:Eisschwimmen
DESCRIPTION:
URL:https://bsv-mittelfranken.de/event/eisschwimmen
LOCATION:Veitsbronn
CATEGORIES:Schwimmen
END:VEVENT
BEGIN:VEVENT
DTSTART;VALUE=DATE:20260117
DTEND;VALUE=DATE:20260119
DTSTAMP:20260420T152216
CREATED:20251012T085433Z
LAST-MODIFIED:20251012T085433Z
UID:6066-1768608000-1768780799@bsv-mittelfranken.de
SUMMARY:Bayerische Meisterschaften Lange Strecke
DESCRIPTION:
URL:https://bsv-mittelfranken.de/event/bayerische-meisterschaften-lange-strecke-3
CATEGORIES:Schwimmen
END:VEVENT
BEGIN:VEVENT
DTSTART;VALUE=DATE:20260124
DTEND;VALUE=DATE:20260126
DTSTAMP:20260420T152216
CREATED:20251012T085509Z
LAST-MODIFIED:20251012T085509Z
UID:6068-1769212800-1769385599@bsv-mittelfranken.de
SUMMARY:Süd-Westdeutscher Ländervergleich
DESCRIPTION:
URL:https://bsv-mittelfranken.de/event/sued-westdeutscher-laendervergleich
LOCATION:Wuppertal\, Südstraße 29\, Wuppertal\, 42103
CATEGORIES:Schwimmen
END:VEVENT
BEGIN:VEVENT
DTSTART;VALUE=DATE:20260124
DTEND;VALUE=DATE:20260125
DTSTAMP:20260420T152216
CREATED:20251012T085532Z
LAST-MODIFIED:20260125T190401Z
UID:6070-1769212800-1769299199@bsv-mittelfranken.de
SUMMARY:Kreismeisterschaften Nord-Ost
DESCRIPTION:Ausschreibung \nProtokoll \nENM
URL:https://bsv-mittelfranken.de/event/kreismeisterschaften-nord-ost-3
CATEGORIES:Schwimmen
END:VEVENT
BEGIN:VEVENT
DTSTART;TZID=Europe/Berlin:20260128T200000
DTEND;TZID=Europe/Berlin:20260128T220000
DTSTAMP:20260420T152216
CREATED:20251120T191538Z
LAST-MODIFIED:20251120T191538Z
UID:6227-1769630400-1769637600@bsv-mittelfranken.de
SUMMARY:BSV-Mittelfranken Info-Stammtisch
DESCRIPTION:Einladung
URL:https://bsv-mittelfranken.de/event/bsv-mittelfranken-info-stammtisch
LOCATION:„Rundblick“ in Uttenreuth\, Breslauer Str. 41\, Uttenreuth\, 91080\, Deutschland
CATEGORIES:Bezirk
END:VEVENT
BEGIN:VEVENT
DTSTART;VALUE=DATE:20260131
DTEND;VALUE=DATE:20260201
DTSTAMP:20260420T152216
CREATED:20251012T085612Z
LAST-MODIFIED:20260202T090937Z
UID:6072-1769817600-1769903999@bsv-mittelfranken.de
SUMMARY:DMS Bezirksliga
DESCRIPTION:Ausschreibung \nMeldeergebnis \nProtokoll
URL:https://bsv-mittelfranken.de/event/dms-bezirksliga-3
LOCATION:Ansbach
CATEGORIES:Schwimmen
END:VEVENT
END:VCALENDAR