BEGIN:VCALENDAR
VERSION:2.0
PRODID:-//BSV Mittelfranken - ECPv6.15.20//NONSGML v1.0//EN
CALSCALE:GREGORIAN
METHOD:PUBLISH
X-ORIGINAL-URL:https://bsv-mittelfranken.de
X-WR-CALDESC:Veranstaltungen für BSV Mittelfranken
REFRESH-INTERVAL;VALUE=DURATION:PT1H
X-Robots-Tag:noindex
X-PUBLISHED-TTL:PT1H
BEGIN:VTIMEZONE
TZID:Europe/Berlin
BEGIN:DAYLIGHT
TZOFFSETFROM:+0100
TZOFFSETTO:+0200
TZNAME:CEST
DTSTART:20240331T010000
END:DAYLIGHT
BEGIN:STANDARD
TZOFFSETFROM:+0200
TZOFFSETTO:+0100
TZNAME:CET
DTSTART:20241027T010000
END:STANDARD
BEGIN:DAYLIGHT
TZOFFSETFROM:+0100
TZOFFSETTO:+0200
TZNAME:CEST
DTSTART:20250330T010000
END:DAYLIGHT
BEGIN:STANDARD
TZOFFSETFROM:+0200
TZOFFSETTO:+0100
TZNAME:CET
DTSTART:20251026T010000
END:STANDARD
BEGIN:DAYLIGHT
TZOFFSETFROM:+0100
TZOFFSETTO:+0200
TZNAME:CEST
DTSTART:20260329T010000
END:DAYLIGHT
BEGIN:STANDARD
TZOFFSETFROM:+0200
TZOFFSETTO:+0100
TZNAME:CET
DTSTART:20261025T010000
END:STANDARD
END:VTIMEZONE
BEGIN:VEVENT
DTSTART;VALUE=DATE:20251102
DTEND;VALUE=DATE:20251103
DTSTAMP:20260420T183355
CREATED:20240926T164439Z
LAST-MODIFIED:20250930T133222Z
UID:4983-1762041600-1762127999@bsv-mittelfranken.de
SUMMARY:Bezirksvergleich
DESCRIPTION:
URL:https://bsv-mittelfranken.de/event/bezirksvergleich-2
CATEGORIES:Schwimmen
END:VEVENT
BEGIN:VEVENT
DTSTART;VALUE=DATE:20251103
DTEND;VALUE=DATE:20251107
DTSTAMP:20260420T183355
CREATED:20250508T140355Z
LAST-MODIFIED:20250508T140355Z
UID:5626-1762128000-1762473599@bsv-mittelfranken.de
SUMMARY:Grundausbildung Anfängerschwimmen 2025-2
DESCRIPTION:Zur Anmeldung \nAnmeldebeginn: 09.05.2025 08:00 Uhr \nAnmeldeschluss: 29.09.2025 23:59 Uhr \n  \n  \nAusschreibung Grundausbildung 2025-2
URL:https://bsv-mittelfranken.de/event/grundausbildung-anfaengerschwimmen-2025-2
LOCATION:Nürnberg\, Nürnberg
CATEGORIES:Lehrwesen
END:VEVENT
BEGIN:VEVENT
DTSTART;VALUE=DATE:20251108
DTEND;VALUE=DATE:20251109
DTSTAMP:20260420T183355
CREATED:20250213T164136Z
LAST-MODIFIED:20250213T164136Z
UID:5463-1762560000-1762646399@bsv-mittelfranken.de
SUMMARY:DMS Masters Bundesentscheid
DESCRIPTION:
URL:https://bsv-mittelfranken.de/event/dms-masters-bundesentscheid
LOCATION:Langwasserbad Nürnberg\, Breslauer Str. 251\, Nürnberg\, Bayern\, 90471\, Deutschland
CATEGORIES:Schwimmen
END:VEVENT
BEGIN:VEVENT
DTSTART;VALUE=DATE:20251114
DTEND;VALUE=DATE:20251117
DTSTAMP:20260420T183355
CREATED:20240926T164335Z
LAST-MODIFIED:20240926T164335Z
UID:4979-1763078400-1763337599@bsv-mittelfranken.de
SUMMARY:Deutsche Meisterschaften Para-schwimmen
DESCRIPTION:
URL:https://bsv-mittelfranken.de/event/deutsche-meisterschaften-para-schwimmen
CATEGORIES:Schwimmen
END:VEVENT
BEGIN:VEVENT
DTSTART;VALUE=DATE:20251116
DTEND;VALUE=DATE:20251117
DTSTAMP:20260420T183355
CREATED:20251008T082950Z
LAST-MODIFIED:20251008T083153Z
UID:6051-1763251200-1763337599@bsv-mittelfranken.de
SUMMARY:33. Erlanger Nikolausschwimmen 2025
DESCRIPTION:Meldeschluss 09.11.25
URL:https://bsv-mittelfranken.de/event/33-erlanger-nikolausschwimmen-2025
LOCATION:Röthelheimbad\, Hartmannstraße 121\, Erlangen\, 91058
CATEGORIES:Schwimmen
END:VEVENT
BEGIN:VEVENT
DTSTART;VALUE=DATE:20251122
DTEND;VALUE=DATE:20251123
DTSTAMP:20260420T183355
CREATED:20240926T164406Z
LAST-MODIFIED:20250213T164223Z
UID:4981-1763769600-1763855999@bsv-mittelfranken.de
SUMMARY:Fürther Kinderschwimmen
DESCRIPTION:
URL:https://bsv-mittelfranken.de/event/fuerther-kinderschwimmen-3
LOCATION:Fürth
CATEGORIES:Schwimmen
END:VEVENT
BEGIN:VEVENT
DTSTART;VALUE=DATE:20251122
DTEND;VALUE=DATE:20251124
DTSTAMP:20260420T183355
CREATED:20250612T131802Z
LAST-MODIFIED:20250612T131802Z
UID:5730-1763769600-1763942399@bsv-mittelfranken.de
SUMMARY:DMSJ Landesentscheid Bayern
DESCRIPTION:
URL:https://bsv-mittelfranken.de/event/dmsj-landesentscheid-bayern
CATEGORIES:Schwimmen
END:VEVENT
BEGIN:VEVENT
DTSTART;VALUE=DATE:20251122
DTEND;VALUE=DATE:20251124
DTSTAMP:20260420T183355
CREATED:20250726T124910Z
LAST-MODIFIED:20250828T214612Z
UID:5853-1763769600-1763942399@bsv-mittelfranken.de
SUMMARY:Trainer C Modul 3: Breitensport Schwimmen (1/3)
DESCRIPTION:Zur Ausschreibung: LINK \nZur Anmeldung: LINK \nAnmeldung ausschließlich über BSV Landesverband! Lg.Nr.: 2025-737
URL:https://bsv-mittelfranken.de/event/trainer-c-modul-3-breitensport-schwimmen-1-3
LOCATION:Nürnberg\, Nürnberg
CATEGORIES:Lehrwesen
END:VEVENT
BEGIN:VEVENT
DTSTART;VALUE=DATE:20251129
DTEND;VALUE=DATE:20251130
DTSTAMP:20260420T183355
CREATED:20250213T164408Z
LAST-MODIFIED:20250213T164408Z
UID:5465-1764374400-1764460799@bsv-mittelfranken.de
SUMMARY:Heunisch-Guss-Pokal
DESCRIPTION:
URL:https://bsv-mittelfranken.de/event/heunisch-guss-pokal
LOCATION:Hallenbad Bad Windsheim
CATEGORIES:Schwimmen
END:VEVENT
END:VCALENDAR