BEGIN:VCALENDAR
VERSION:2.0
PRODID:-//BSV Mittelfranken - ECPv6.15.20//NONSGML v1.0//EN
CALSCALE:GREGORIAN
METHOD:PUBLISH
X-ORIGINAL-URL:https://bsv-mittelfranken.de
X-WR-CALDESC:Veranstaltungen für BSV Mittelfranken
REFRESH-INTERVAL;VALUE=DURATION:PT1H
X-Robots-Tag:noindex
X-PUBLISHED-TTL:PT1H
BEGIN:VTIMEZONE
TZID:Europe/Berlin
BEGIN:DAYLIGHT
TZOFFSETFROM:+0100
TZOFFSETTO:+0200
TZNAME:CEST
DTSTART:20240331T010000
END:DAYLIGHT
BEGIN:STANDARD
TZOFFSETFROM:+0200
TZOFFSETTO:+0100
TZNAME:CET
DTSTART:20241027T010000
END:STANDARD
BEGIN:DAYLIGHT
TZOFFSETFROM:+0100
TZOFFSETTO:+0200
TZNAME:CEST
DTSTART:20250330T010000
END:DAYLIGHT
BEGIN:STANDARD
TZOFFSETFROM:+0200
TZOFFSETTO:+0100
TZNAME:CET
DTSTART:20251026T010000
END:STANDARD
BEGIN:DAYLIGHT
TZOFFSETFROM:+0100
TZOFFSETTO:+0200
TZNAME:CEST
DTSTART:20260329T010000
END:DAYLIGHT
BEGIN:STANDARD
TZOFFSETFROM:+0200
TZOFFSETTO:+0100
TZNAME:CET
DTSTART:20261025T010000
END:STANDARD
END:VTIMEZONE
BEGIN:VEVENT
DTSTART;TZID=Europe/Berlin:20250917T190000
DTEND;TZID=Europe/Berlin:20250917T210000
DTSTAMP:20260420T213722
CREATED:20250803T205728Z
LAST-MODIFIED:20250803T205834Z
UID:5908-1758135600-1758142800@bsv-mittelfranken.de
SUMMARY:Kampfrichter – Fortbildung WKR Fo 25-09-17
DESCRIPTION:Ausschreibung \nAnmeldung
URL:https://bsv-mittelfranken.de/event/kampfrichter-fortbildung-wkr-fo-25-09-17
LOCATION:Sportgaststätte Tuspo Heroldsberg\, Sportplatzweg 12\, Heroldsberg\, 90562
CATEGORIES:Kampfrichter
END:VEVENT
BEGIN:VEVENT
DTSTART;VALUE=DATE:20250928
DTEND;VALUE=DATE:20250929
DTSTAMP:20260420T213722
CREATED:20240926T164100Z
LAST-MODIFIED:20250915T093004Z
UID:4971-1759017600-1759103999@bsv-mittelfranken.de
SUMMARY:Fachausschusssitzung
DESCRIPTION:
URL:https://bsv-mittelfranken.de/event/fachausschusssitzung
END:VEVENT
END:VCALENDAR