BEGIN:VCALENDAR
VERSION:2.0
PRODID:-//BSV Mittelfranken - ECPv6.15.20//NONSGML v1.0//EN
CALSCALE:GREGORIAN
METHOD:PUBLISH
X-ORIGINAL-URL:https://bsv-mittelfranken.de
X-WR-CALDESC:Veranstaltungen für BSV Mittelfranken
REFRESH-INTERVAL;VALUE=DURATION:PT1H
X-Robots-Tag:noindex
X-PUBLISHED-TTL:PT1H
BEGIN:VTIMEZONE
TZID:Europe/Berlin
BEGIN:DAYLIGHT
TZOFFSETFROM:+0100
TZOFFSETTO:+0200
TZNAME:CEST
DTSTART:20240331T010000
END:DAYLIGHT
BEGIN:STANDARD
TZOFFSETFROM:+0200
TZOFFSETTO:+0100
TZNAME:CET
DTSTART:20241027T010000
END:STANDARD
BEGIN:DAYLIGHT
TZOFFSETFROM:+0100
TZOFFSETTO:+0200
TZNAME:CEST
DTSTART:20250330T010000
END:DAYLIGHT
BEGIN:STANDARD
TZOFFSETFROM:+0200
TZOFFSETTO:+0100
TZNAME:CET
DTSTART:20251026T010000
END:STANDARD
BEGIN:DAYLIGHT
TZOFFSETFROM:+0100
TZOFFSETTO:+0200
TZNAME:CEST
DTSTART:20260329T010000
END:DAYLIGHT
BEGIN:STANDARD
TZOFFSETFROM:+0200
TZOFFSETTO:+0100
TZNAME:CET
DTSTART:20261025T010000
END:STANDARD
END:VTIMEZONE
BEGIN:VEVENT
DTSTART;VALUE=DATE:20250606
DTEND;VALUE=DATE:20250607
DTSTAMP:20260421T022737
CREATED:20250502T131921Z
LAST-MODIFIED:20250502T132227Z
UID:5610-1749168000-1749254399@bsv-mittelfranken.de
SUMMARY:Franken aktiv 2025
DESCRIPTION:Das große Spiel- und Bewegungsfest „Franken aktiv“\, das vor ein paar Jahren noch jedes Jahr in den fränkischen Bezirken stattfand\, erlebt 2025 endlich eine Neuauflage.\n\nDas Konzept wurde dieses Jahr etwas überarbeitet: Franken Aktiv findet diesmal in Kombination mit dem Sportabzeichentag der Nürnberger Schulen statt. Im Rahmen dessen wollen wir zusammen mit unseren Vereinen und Fachverbänden wieder einen interessanten und abwechslungsreichen Sportpark für Schüler aus mittelfränkischen Schulen zusammenstellen.\nDas bekannte Motto „Sport sehen – erleben – ausprobieren!“ bleibt bestehen.\n\nIn Mittelfranken findet Franken aktiv 2025 am Freitag\, den 06. Juni 2025 auf der Bertolt-Brecht-Sportanlage in Nürnberg statt.\n\nDas rege regionale Interesse und damit der direkte Kontakt zu potentiellen Neumitgliedern für die Vereine Ihres Fachverbandes ist gewiss. Sie können ihre Sportarten ausprobieren lassen\, indem sich Ihre ortsansässigen oder Vereine aus dem Einzugsgebiet präsentieren. Es gibt keine andere Veranstaltung\, bei der Sie so effektiv für Ihren Sport werben können.\n\nNutzen Sie die Chance\, sich am Sportpark zu beteiligen\, Ihre Fachsportart zu präsentieren und damit ein Teil von „Franken aktiv 2025“ zu werden!\n\nAnmeldebogen
URL:https://bsv-mittelfranken.de/event/franken-aktiv-2025
LOCATION:Bertolt-Brecht-Schule Nürnberg\, Karl-Schönleben-Straße 100\, Nürnberg\, 90471
CATEGORIES:Bezirk
END:VEVENT
BEGIN:VEVENT
DTSTART;VALUE=DATE:20250621
DTEND;VALUE=DATE:20250622
DTSTAMP:20260421T022737
CREATED:20240926T163641Z
LAST-MODIFIED:20240926T163641Z
UID:4955-1750464000-1750550399@bsv-mittelfranken.de
SUMMARY:Bayerncup 1. Durchgang
DESCRIPTION:
URL:https://bsv-mittelfranken.de/event/bayerncup-1-durchgang
LOCATION:Straubing
CATEGORIES:Schwimmen
END:VEVENT
BEGIN:VEVENT
DTSTART;VALUE=DATE:20250628
DTEND;VALUE=DATE:20250630
DTSTAMP:20260421T022737
CREATED:20240926T163718Z
LAST-MODIFIED:20250630T095018Z
UID:4958-1751068800-1751241599@bsv-mittelfranken.de
SUMMARY:Mittelfränkische Meisterschaften
DESCRIPTION:Ausschreibung_v2 \nMeldeergebnis \nProtokoll
URL:https://bsv-mittelfranken.de/event/bezirksjahrgangsmeisterschaften
LOCATION:Fürth
CATEGORIES:Schwimmen
END:VEVENT
END:VCALENDAR