BEGIN:VCALENDAR
VERSION:2.0
PRODID:-//BSV Mittelfranken - ECPv6.15.20//NONSGML v1.0//EN
CALSCALE:GREGORIAN
METHOD:PUBLISH
X-WR-CALNAME:BSV Mittelfranken
X-ORIGINAL-URL:https://bsv-mittelfranken.de
X-WR-CALDESC:Veranstaltungen für BSV Mittelfranken
REFRESH-INTERVAL;VALUE=DURATION:PT1H
X-Robots-Tag:noindex
X-PUBLISHED-TTL:PT1H
BEGIN:VTIMEZONE
TZID:Europe/Berlin
BEGIN:DAYLIGHT
TZOFFSETFROM:+0100
TZOFFSETTO:+0200
TZNAME:CEST
DTSTART:20240331T010000
END:DAYLIGHT
BEGIN:STANDARD
TZOFFSETFROM:+0200
TZOFFSETTO:+0100
TZNAME:CET
DTSTART:20241027T010000
END:STANDARD
BEGIN:DAYLIGHT
TZOFFSETFROM:+0100
TZOFFSETTO:+0200
TZNAME:CEST
DTSTART:20250330T010000
END:DAYLIGHT
BEGIN:STANDARD
TZOFFSETFROM:+0200
TZOFFSETTO:+0100
TZNAME:CET
DTSTART:20251026T010000
END:STANDARD
BEGIN:DAYLIGHT
TZOFFSETFROM:+0100
TZOFFSETTO:+0200
TZNAME:CEST
DTSTART:20260329T010000
END:DAYLIGHT
BEGIN:STANDARD
TZOFFSETFROM:+0200
TZOFFSETTO:+0100
TZNAME:CET
DTSTART:20261025T010000
END:STANDARD
END:VTIMEZONE
BEGIN:VEVENT
DTSTART;VALUE=DATE:20250503
DTEND;VALUE=DATE:20250505
DTSTAMP:20260421T035410
CREATED:20250106T002507Z
LAST-MODIFIED:20250213T163811Z
UID:5344-1746230400-1746403199@bsv-mittelfranken.de
SUMMARY:Sparkassencup
DESCRIPTION:
URL:https://bsv-mittelfranken.de/event/sparkassencup-2
LOCATION:Erlangen
CATEGORIES:Schwimmen
END:VEVENT
BEGIN:VEVENT
DTSTART;VALUE=DATE:20250510
DTEND;VALUE=DATE:20250511
DTSTAMP:20260421T035410
CREATED:20240926T163526Z
LAST-MODIFIED:20240926T163526Z
UID:4951-1746835200-1746921599@bsv-mittelfranken.de
SUMMARY:Katzwang-Cup
DESCRIPTION:
URL:https://bsv-mittelfranken.de/event/katzwang-cup-3
LOCATION:Katzwangbad\, Helmut-Bloß-Str. 6\, Nürnberg\, 90453
CATEGORIES:Schwimmen
END:VEVENT
BEGIN:VEVENT
DTSTART;VALUE=DATE:20250524
DTEND;VALUE=DATE:20250525
DTSTAMP:20260421T035410
CREATED:20240926T163557Z
LAST-MODIFIED:20241023T192857Z
UID:4953-1748044800-1748131199@bsv-mittelfranken.de
SUMMARY:Nürnberger Schwimmfest
DESCRIPTION:
URL:https://bsv-mittelfranken.de/event/nuernberger-schwimmfest
LOCATION:Langwasserbad Nürnberg\, Breslauer Str. 251\, Nürnberg\, Bayern\, 90471\, Deutschland
CATEGORIES:Schwimmen
END:VEVENT
END:VCALENDAR