BEGIN:VCALENDAR
VERSION:2.0
PRODID:-//BSV Mittelfranken - ECPv6.15.20//NONSGML v1.0//EN
CALSCALE:GREGORIAN
METHOD:PUBLISH
X-WR-CALNAME:BSV Mittelfranken
X-ORIGINAL-URL:https://bsv-mittelfranken.de
X-WR-CALDESC:Veranstaltungen für BSV Mittelfranken
REFRESH-INTERVAL;VALUE=DURATION:PT1H
X-Robots-Tag:noindex
X-PUBLISHED-TTL:PT1H
BEGIN:VTIMEZONE
TZID:Europe/Berlin
BEGIN:DAYLIGHT
TZOFFSETFROM:+0100
TZOFFSETTO:+0200
TZNAME:CEST
DTSTART:20240331T010000
END:DAYLIGHT
BEGIN:STANDARD
TZOFFSETFROM:+0200
TZOFFSETTO:+0100
TZNAME:CET
DTSTART:20241027T010000
END:STANDARD
BEGIN:DAYLIGHT
TZOFFSETFROM:+0100
TZOFFSETTO:+0200
TZNAME:CEST
DTSTART:20250330T010000
END:DAYLIGHT
BEGIN:STANDARD
TZOFFSETFROM:+0200
TZOFFSETTO:+0100
TZNAME:CET
DTSTART:20251026T010000
END:STANDARD
BEGIN:DAYLIGHT
TZOFFSETFROM:+0100
TZOFFSETTO:+0200
TZNAME:CEST
DTSTART:20260329T010000
END:DAYLIGHT
BEGIN:STANDARD
TZOFFSETFROM:+0200
TZOFFSETTO:+0100
TZNAME:CET
DTSTART:20261025T010000
END:STANDARD
END:VTIMEZONE
BEGIN:VEVENT
DTSTART;TZID=Europe/Berlin:20250404T170000
DTEND;TZID=Europe/Berlin:20250404T223000
DTSTAMP:20260421T052654
CREATED:20250224T214441Z
LAST-MODIFIED:20250224T214543Z
UID:5476-1743786000-1743805800@bsv-mittelfranken.de
SUMMARY:100x100 Meter Schwimmen in Kelheim
DESCRIPTION:Infos und Anmeldung
URL:https://bsv-mittelfranken.de/event/100x100-meter-schwimmen-in-kelheim
LOCATION:Keldorado\, Kelheim
CATEGORIES:Schwimmen
END:VEVENT
BEGIN:VEVENT
DTSTART;VALUE=DATE:20250405
DTEND;VALUE=DATE:20250406
DTSTAMP:20260421T052654
CREATED:20250106T002430Z
LAST-MODIFIED:20250120T131635Z
UID:5342-1743811200-1743897599@bsv-mittelfranken.de
SUMMARY:Kreismeisterschaften Süd-West
DESCRIPTION:Auschreibung
URL:https://bsv-mittelfranken.de/event/kreismeisterschaften-sued-west-3
LOCATION:Zirndorf
CATEGORIES:Schwimmen
END:VEVENT
BEGIN:VEVENT
DTSTART;VALUE=DATE:20250405
DTEND;VALUE=DATE:20250407
DTSTAMP:20260421T052654
CREATED:20250228T104848Z
LAST-MODIFIED:20250402T210148Z
UID:5493-1743811200-1743983999@bsv-mittelfranken.de
SUMMARY:Deutsche offene Meisterschaften 2025 im Synchronschwimmen
DESCRIPTION:Einladung \nMeldeergebnis
URL:https://bsv-mittelfranken.de/event/deutsche-offene-meisterschaften-2025-im-synchronschwimmen
LOCATION:Langwasserbad Nürnberg\, Breslauer Str. 251\, Nürnberg\, Bayern\, 90471\, Deutschland
CATEGORIES:Synchronschwimmen
END:VEVENT
BEGIN:VEVENT
DTSTART;VALUE=DATE:20250414
DTEND;VALUE=DATE:20250418
DTSTAMP:20260421T052654
CREATED:20241117T105653Z
LAST-MODIFIED:20241117T105903Z
UID:5181-1744588800-1744934399@bsv-mittelfranken.de
SUMMARY:Grundausbildung Anfängerschwimmen 2025-1
DESCRIPTION:Zur Anmeldung \nAnmeldebeginn: 22.11.2024 00:00 Uhr \nAnmeldeschluss: 24.03.2025 23:59 Uhr \n 
URL:https://bsv-mittelfranken.de/event/grundausbildung-anfaengerschwimmen-2025-1
CATEGORIES:Lehrwesen
END:VEVENT
END:VCALENDAR