BEGIN:VCALENDAR
VERSION:2.0
PRODID:-//BSV Mittelfranken - ECPv6.15.20//NONSGML v1.0//EN
CALSCALE:GREGORIAN
METHOD:PUBLISH
X-ORIGINAL-URL:https://bsv-mittelfranken.de
X-WR-CALDESC:Veranstaltungen für BSV Mittelfranken
REFRESH-INTERVAL;VALUE=DURATION:PT1H
X-Robots-Tag:noindex
X-PUBLISHED-TTL:PT1H
BEGIN:VTIMEZONE
TZID:Europe/Berlin
BEGIN:DAYLIGHT
TZOFFSETFROM:+0100
TZOFFSETTO:+0200
TZNAME:CEST
DTSTART:20240331T010000
END:DAYLIGHT
BEGIN:STANDARD
TZOFFSETFROM:+0200
TZOFFSETTO:+0100
TZNAME:CET
DTSTART:20241027T010000
END:STANDARD
BEGIN:DAYLIGHT
TZOFFSETFROM:+0100
TZOFFSETTO:+0200
TZNAME:CEST
DTSTART:20250330T010000
END:DAYLIGHT
BEGIN:STANDARD
TZOFFSETFROM:+0200
TZOFFSETTO:+0100
TZNAME:CET
DTSTART:20251026T010000
END:STANDARD
BEGIN:DAYLIGHT
TZOFFSETFROM:+0100
TZOFFSETTO:+0200
TZNAME:CEST
DTSTART:20260329T010000
END:DAYLIGHT
BEGIN:STANDARD
TZOFFSETFROM:+0200
TZOFFSETTO:+0100
TZNAME:CET
DTSTART:20261025T010000
END:STANDARD
END:VTIMEZONE
BEGIN:VEVENT
DTSTART;VALUE=DATE:20250314
DTEND;VALUE=DATE:20250317
DTSTAMP:20260421T070551
CREATED:20240926T163257Z
LAST-MODIFIED:20240926T163257Z
UID:4940-1741910400-1742169599@bsv-mittelfranken.de
SUMMARY:Int. Deutsche Meisterschaften der Masters Lange Strecke
DESCRIPTION:
URL:https://bsv-mittelfranken.de/event/int-deutsche-meisterschaften-der-masters-lange-strecke
LOCATION:Wolfsburg
CATEGORIES:Schwimmen
END:VEVENT
BEGIN:VEVENT
DTSTART;VALUE=DATE:20250315
DTEND;VALUE=DATE:20250317
DTSTAMP:20260421T070551
CREATED:20240926T163326Z
LAST-MODIFIED:20241113T122415Z
UID:4943-1741996800-1742169599@bsv-mittelfranken.de
SUMMARY:ISM
DESCRIPTION:Ausschreibung
URL:https://bsv-mittelfranken.de/event/ism-2
LOCATION:Röthelheimbad\, Hartmannstraße 121\, Erlangen\, 91058
CATEGORIES:Schwimmen
END:VEVENT
BEGIN:VEVENT
DTSTART;VALUE=DATE:20250322
DTEND;VALUE=DATE:20250323
DTSTAMP:20260421T070551
CREATED:20240926T163208Z
LAST-MODIFIED:20250311T111609Z
UID:4937-1742601600-1742687999@bsv-mittelfranken.de
SUMMARY:Bayerische Masters Kurzbahn
DESCRIPTION:Ausschreibung
URL:https://bsv-mittelfranken.de/event/bayerische-masters-kurzbahn
LOCATION:Fürstenfeldbruck
CATEGORIES:Schwimmen
END:VEVENT
BEGIN:VEVENT
DTSTART;VALUE=DATE:20250323
DTEND;VALUE=DATE:20250324
DTSTAMP:20260421T070551
CREATED:20250106T002346Z
LAST-MODIFIED:20250106T002346Z
UID:5339-1742688000-1742774399@bsv-mittelfranken.de
SUMMARY:Wasserratten-Treffen Schwabach
DESCRIPTION:
URL:https://bsv-mittelfranken.de/event/wasserratten-treffen-schwabach
LOCATION:Schwabach
CATEGORIES:Schwimmen
END:VEVENT
BEGIN:VEVENT
DTSTART;TZID=Europe/Berlin:20250326T190000
DTEND;TZID=Europe/Berlin:20250326T210000
DTSTAMP:20260421T070551
CREATED:20250108T204130Z
LAST-MODIFIED:20250108T204130Z
UID:5350-1743015600-1743022800@bsv-mittelfranken.de
SUMMARY:Kampfrichter – Fortbildung
DESCRIPTION:Anmeldung
URL:https://bsv-mittelfranken.de/event/kampfrichter-fortbildung
LOCATION:Sportgaststätte Tuspo Heroldsberg\, Sportplatzweg 12\, Heroldsberg\, 90562
CATEGORIES:Kampfrichter
END:VEVENT
BEGIN:VEVENT
DTSTART;VALUE=DATE:20250328
DTEND;VALUE=DATE:20250331
DTSTAMP:20260421T070551
CREATED:20240926T163501Z
LAST-MODIFIED:20250106T001802Z
UID:4949-1743120000-1743379199@bsv-mittelfranken.de
SUMMARY:Bayerische Offene Würzburg
DESCRIPTION:
URL:https://bsv-mittelfranken.de/event/bayerische-offene-mit-smk
LOCATION:Würzburg
CATEGORIES:Schwimmen
END:VEVENT
END:VCALENDAR