BEGIN:VCALENDAR
VERSION:2.0
PRODID:-//BSV Mittelfranken - ECPv6.15.20//NONSGML v1.0//EN
CALSCALE:GREGORIAN
METHOD:PUBLISH
X-WR-CALNAME:BSV Mittelfranken
X-ORIGINAL-URL:https://bsv-mittelfranken.de
X-WR-CALDESC:Veranstaltungen für BSV Mittelfranken
REFRESH-INTERVAL;VALUE=DURATION:PT1H
X-Robots-Tag:noindex
X-PUBLISHED-TTL:PT1H
BEGIN:VTIMEZONE
TZID:Europe/Berlin
BEGIN:DAYLIGHT
TZOFFSETFROM:+0100
TZOFFSETTO:+0200
TZNAME:CEST
DTSTART:20240331T010000
END:DAYLIGHT
BEGIN:STANDARD
TZOFFSETFROM:+0200
TZOFFSETTO:+0100
TZNAME:CET
DTSTART:20241027T010000
END:STANDARD
BEGIN:DAYLIGHT
TZOFFSETFROM:+0100
TZOFFSETTO:+0200
TZNAME:CEST
DTSTART:20250330T010000
END:DAYLIGHT
BEGIN:STANDARD
TZOFFSETFROM:+0200
TZOFFSETTO:+0100
TZNAME:CET
DTSTART:20251026T010000
END:STANDARD
BEGIN:DAYLIGHT
TZOFFSETFROM:+0100
TZOFFSETTO:+0200
TZNAME:CEST
DTSTART:20260329T010000
END:DAYLIGHT
BEGIN:STANDARD
TZOFFSETFROM:+0200
TZOFFSETTO:+0100
TZNAME:CET
DTSTART:20261025T010000
END:STANDARD
END:VTIMEZONE
BEGIN:VEVENT
DTSTART;TZID=Europe/Berlin:20250208T090000
DTEND;TZID=Europe/Berlin:20250208T180000
DTSTAMP:20260421T082829
CREATED:20250106T002122Z
LAST-MODIFIED:20250106T002122Z
UID:5336-1739005200-1739037600@bsv-mittelfranken.de
SUMMARY:Kampfrichter Ausbildung
DESCRIPTION:Anmeldung
URL:https://bsv-mittelfranken.de/event/kampfrichter-ausbildung
LOCATION:Sportgaststätte Tuspo Heroldsberg\, Sportplatzweg 12\, Heroldsberg\, 90562
CATEGORIES:Kampfrichter
END:VEVENT
BEGIN:VEVENT
DTSTART;TZID=Europe/Berlin:20250209T093000
DTEND;TZID=Europe/Berlin:20250209T173000
DTSTAMP:20260421T082829
CREATED:20241126T223736Z
LAST-MODIFIED:20250202T194156Z
UID:5248-1739093400-1739122200@bsv-mittelfranken.de
SUMMARY:Trainer C Weiterbildung: Schwimmart "Rücken"
DESCRIPTION:Zur Anmeldung: https://bsv-mittelfranken.de/kurs-kategorie/trainer-c-fortbildungen \nZur Ausschreibung: https://bsv-mittelfranken.de/wp-content/uploads/2024/11/Ausschreibung_C-Trainer_FoBi_2025-1.pdf
URL:https://bsv-mittelfranken.de/event/trainer-c-weiterbildung-schwimmart-ruecken
LOCATION:Nürnberg\, Nürnberg
CATEGORIES:Lehrwesen
END:VEVENT
BEGIN:VEVENT
DTSTART;VALUE=DATE:20250215
DTEND;VALUE=DATE:20250216
DTSTAMP:20260421T082829
CREATED:20241023T162110Z
LAST-MODIFIED:20250210T215919Z
UID:5082-1739577600-1739663999@bsv-mittelfranken.de
SUMMARY:DMS Bezirksliga
DESCRIPTION:Ausschreibung \nMeldeergebnis
URL:https://bsv-mittelfranken.de/event/dms-bezirksliga-2
LOCATION:Ansbach
CATEGORIES:Schwimmen
END:VEVENT
END:VCALENDAR