BEGIN:VCALENDAR
VERSION:2.0
PRODID:-//BSV Mittelfranken - ECPv6.15.20//NONSGML v1.0//EN
CALSCALE:GREGORIAN
METHOD:PUBLISH
X-ORIGINAL-URL:https://bsv-mittelfranken.de
X-WR-CALDESC:Veranstaltungen für BSV Mittelfranken
REFRESH-INTERVAL;VALUE=DURATION:PT1H
X-Robots-Tag:noindex
X-PUBLISHED-TTL:PT1H
BEGIN:VTIMEZONE
TZID:Europe/Berlin
BEGIN:DAYLIGHT
TZOFFSETFROM:+0100
TZOFFSETTO:+0200
TZNAME:CEST
DTSTART:20230326T010000
END:DAYLIGHT
BEGIN:STANDARD
TZOFFSETFROM:+0200
TZOFFSETTO:+0100
TZNAME:CET
DTSTART:20231029T010000
END:STANDARD
BEGIN:DAYLIGHT
TZOFFSETFROM:+0100
TZOFFSETTO:+0200
TZNAME:CEST
DTSTART:20240331T010000
END:DAYLIGHT
BEGIN:STANDARD
TZOFFSETFROM:+0200
TZOFFSETTO:+0100
TZNAME:CET
DTSTART:20241027T010000
END:STANDARD
BEGIN:DAYLIGHT
TZOFFSETFROM:+0100
TZOFFSETTO:+0200
TZNAME:CEST
DTSTART:20250330T010000
END:DAYLIGHT
BEGIN:STANDARD
TZOFFSETFROM:+0200
TZOFFSETTO:+0100
TZNAME:CET
DTSTART:20251026T010000
END:STANDARD
END:VTIMEZONE
BEGIN:VEVENT
DTSTART;VALUE=DATE:20240914
DTEND;VALUE=DATE:20240915
DTSTAMP:20260421T155701
CREATED:20240730T142055Z
LAST-MODIFIED:20240730T142055Z
UID:4742-1726272000-1726358399@bsv-mittelfranken.de
SUMMARY:BSV Trainertagung
DESCRIPTION:
URL:https://bsv-mittelfranken.de/event/bsv-trainertagung-2
LOCATION:Leitershofen\, Deutschland
END:VEVENT
BEGIN:VEVENT
DTSTART;TZID=Europe/Berlin:20240915T080000
DTEND;TZID=Europe/Berlin:20240915T170000
DTSTAMP:20260421T155701
CREATED:20240730T142129Z
LAST-MODIFIED:20240730T142129Z
UID:4745-1726387200-1726419600@bsv-mittelfranken.de
SUMMARY:BSV FAS Schwimmen
DESCRIPTION:
URL:https://bsv-mittelfranken.de/event/bsv-fas-schwimmen-2
LOCATION:Leitershofen\, Deutschland
CATEGORIES:Schwimmen
END:VEVENT
BEGIN:VEVENT
DTSTART;VALUE=DATE:20240921
DTEND;VALUE=DATE:20240922
DTSTAMP:20260421T155701
CREATED:20240702T181517Z
LAST-MODIFIED:20240702T181517Z
UID:4643-1726876800-1726963199@bsv-mittelfranken.de
SUMMARY:Technikersitzung
DESCRIPTION:
URL:https://bsv-mittelfranken.de/event/technikersitzung-4
LOCATION:Zirndorf
CATEGORIES:Bezirk
END:VEVENT
BEGIN:VEVENT
DTSTART;TZID=Europe/Berlin:20240928T093000
DTEND;TZID=Europe/Berlin:20240928T164500
DTSTAMP:20260421T155701
CREATED:20240510T211154Z
LAST-MODIFIED:20240510T211154Z
UID:4578-1727515800-1727541900@bsv-mittelfranken.de
SUMMARY:Sprecherlehrgang 2024
DESCRIPTION:Ausschreibung_Sprecherlehrgang-2024
URL:https://bsv-mittelfranken.de/event/sprecherlehrgang-2024
LOCATION:WSV Neptun Bamberg\, Burghof 30\, Bamberg\, 96049\, Deutschland
CATEGORIES:Kampfrichter
END:VEVENT
BEGIN:VEVENT
DTSTART;TZID=Europe/Berlin:20240929T090000
DTEND;TZID=Europe/Berlin:20240929T161500
DTSTAMP:20260421T155701
CREATED:20240816T184909Z
LAST-MODIFIED:20240816T184909Z
UID:4787-1727600400-1727626500@bsv-mittelfranken.de
SUMMARY:Trainer C Weiterbildung 2024-2 Thema: Brustschwimmen
DESCRIPTION:Link zur Anmeldung: \nhttps://bsv-mittelfranken.de/kurse/c-trainer-fortbildung-mfr-2
URL:https://bsv-mittelfranken.de/event/trainer-c-weiterbildung-2024-2-thema-brustschwimmen
CATEGORIES:Lehrwesen
END:VEVENT
END:VCALENDAR