BEGIN:VCALENDAR
VERSION:2.0
PRODID:-//BSV Mittelfranken - ECPv6.15.20//NONSGML v1.0//EN
CALSCALE:GREGORIAN
METHOD:PUBLISH
X-WR-CALNAME:BSV Mittelfranken
X-ORIGINAL-URL:https://bsv-mittelfranken.de
X-WR-CALDESC:Veranstaltungen für BSV Mittelfranken
REFRESH-INTERVAL;VALUE=DURATION:PT1H
X-Robots-Tag:noindex
X-PUBLISHED-TTL:PT1H
BEGIN:VTIMEZONE
TZID:Europe/Berlin
BEGIN:DAYLIGHT
TZOFFSETFROM:+0100
TZOFFSETTO:+0200
TZNAME:CEST
DTSTART:20230326T010000
END:DAYLIGHT
BEGIN:STANDARD
TZOFFSETFROM:+0200
TZOFFSETTO:+0100
TZNAME:CET
DTSTART:20231029T010000
END:STANDARD
BEGIN:DAYLIGHT
TZOFFSETFROM:+0100
TZOFFSETTO:+0200
TZNAME:CEST
DTSTART:20240331T010000
END:DAYLIGHT
BEGIN:STANDARD
TZOFFSETFROM:+0200
TZOFFSETTO:+0100
TZNAME:CET
DTSTART:20241027T010000
END:STANDARD
BEGIN:DAYLIGHT
TZOFFSETFROM:+0100
TZOFFSETTO:+0200
TZNAME:CEST
DTSTART:20250330T010000
END:DAYLIGHT
BEGIN:STANDARD
TZOFFSETFROM:+0200
TZOFFSETTO:+0100
TZNAME:CET
DTSTART:20251026T010000
END:STANDARD
END:VTIMEZONE
BEGIN:VEVENT
DTSTART;TZID=Europe/Berlin:20240703T190000
DTEND;TZID=Europe/Berlin:20240703T210000
DTSTAMP:20260423T135009
CREATED:20240627T150145Z
LAST-MODIFIED:20240701T204424Z
UID:4608-1720033200-1720040400@bsv-mittelfranken.de
SUMMARY:BSV-Mittelfranken Stammtisch
DESCRIPTION:Wir laden recht herzliche zu unserem neu eingerichteten Stammtisch ein. \n  \nTermin: Mittwoch\, 03. Juli.2024\, 19:00 – 21:00 Uhr\nOrt: Vereinsgaststätte Ellwanger Straße 7\, in Nürnberg-Katzwang im Wintergarten \n  \nWir freuen uns auf nette Gespräche in einer ungezwungenen Atmosphäre.\nEssen und Getränke können auf Selbstkostenbasis in der Gaststätte bestellt werden.\nBitte melden Sie sich aus organisatorischen Gründen an unter\nvorsitzender@bsv-mittelfranken.de
URL:https://bsv-mittelfranken.de/event/bsv-mittelfranken-stammtisch
LOCATION:Vereinsgaststätte „Zum Rednitzgrund“\, Ellwanger Str. 7\, Nürnberg\, 90453\, Deutschland
CATEGORIES:Bezirk
END:VEVENT
BEGIN:VEVENT
DTSTART;VALUE=DATE:20240706
DTEND;VALUE=DATE:20240708
DTSTAMP:20260423T135009
CREATED:20240502T190528Z
LAST-MODIFIED:20240630T204144Z
UID:4564-1720224000-1720396799@bsv-mittelfranken.de
SUMMARY:Bezirks- Jahrgangs- und Juniorenmeisterschaft "Lange Bahn" "Mittelfränkische Meisterschaften 2024"
DESCRIPTION:Ausschreibung \nMeldeergebnis
URL:https://bsv-mittelfranken.de/event/bezirks-jahrgangs-und-juniorenmeisterschaft-lange-bahn-mittelfraenkische-meisterschaften-2024
LOCATION:Langwasserbad Nürnberg\, Breslauer Str. 251\, Nürnberg\, Bayern\, 90471\, Deutschland
CATEGORIES:Schwimmen
END:VEVENT
BEGIN:VEVENT
DTSTART;VALUE=DATE:20240713
DTEND;VALUE=DATE:20240715
DTSTAMP:20260423T135009
CREATED:20240702T181251Z
LAST-MODIFIED:20240702T181251Z
UID:4635-1720828800-1721001599@bsv-mittelfranken.de
SUMMARY:Bayerische Meisterschaften (50m)
DESCRIPTION:
URL:https://bsv-mittelfranken.de/event/bayerische-meisterschaften-50m
CATEGORIES:Schwimmen
END:VEVENT
BEGIN:VEVENT
DTSTART;VALUE=DATE:20240714
DTEND;VALUE=DATE:20240715
DTSTAMP:20260423T135009
CREATED:20240702T181324Z
LAST-MODIFIED:20240702T181324Z
UID:4637-1720915200-1721001599@bsv-mittelfranken.de
SUMMARY:Nürnberger Kinderschwimmen
DESCRIPTION:
URL:https://bsv-mittelfranken.de/event/nuernberger-kinderschwimmen
CATEGORIES:Schwimmen
END:VEVENT
BEGIN:VEVENT
DTSTART;VALUE=DATE:20240719
DTEND;VALUE=DATE:20240722
DTSTAMP:20260423T135009
CREATED:20240702T181358Z
LAST-MODIFIED:20240702T181358Z
UID:4639-1721347200-1721606399@bsv-mittelfranken.de
SUMMARY:Bayerische aquafeel Jahrgangsmeisterschaften
DESCRIPTION:
URL:https://bsv-mittelfranken.de/event/bayerische-aquafeel-jahrgangsmeisterschaften
CATEGORIES:Schwimmen
END:VEVENT
BEGIN:VEVENT
DTSTART;VALUE=DATE:20240727
DTEND;VALUE=DATE:20240728
DTSTAMP:20260423T135009
CREATED:20240702T181440Z
LAST-MODIFIED:20240702T181440Z
UID:4641-1722038400-1722124799@bsv-mittelfranken.de
SUMMARY:Bayerische Meisterschaften Freiwasser & 2. DG offen
DESCRIPTION:
URL:https://bsv-mittelfranken.de/event/bayerische-meisterschaften-freiwasser-2-dg-offen
CATEGORIES:Schwimmen
END:VEVENT
END:VCALENDAR