BEGIN:VCALENDAR
VERSION:2.0
PRODID:-//BSV Mittelfranken - ECPv6.15.20//NONSGML v1.0//EN
CALSCALE:GREGORIAN
METHOD:PUBLISH
X-ORIGINAL-URL:https://bsv-mittelfranken.de
X-WR-CALDESC:Veranstaltungen für BSV Mittelfranken
REFRESH-INTERVAL;VALUE=DURATION:PT1H
X-Robots-Tag:noindex
X-PUBLISHED-TTL:PT1H
BEGIN:VTIMEZONE
TZID:Europe/Berlin
BEGIN:DAYLIGHT
TZOFFSETFROM:+0100
TZOFFSETTO:+0200
TZNAME:CEST
DTSTART:20230326T010000
END:DAYLIGHT
BEGIN:STANDARD
TZOFFSETFROM:+0200
TZOFFSETTO:+0100
TZNAME:CET
DTSTART:20231029T010000
END:STANDARD
BEGIN:DAYLIGHT
TZOFFSETFROM:+0100
TZOFFSETTO:+0200
TZNAME:CEST
DTSTART:20240331T010000
END:DAYLIGHT
BEGIN:STANDARD
TZOFFSETFROM:+0200
TZOFFSETTO:+0100
TZNAME:CET
DTSTART:20241027T010000
END:STANDARD
BEGIN:DAYLIGHT
TZOFFSETFROM:+0100
TZOFFSETTO:+0200
TZNAME:CEST
DTSTART:20250330T010000
END:DAYLIGHT
BEGIN:STANDARD
TZOFFSETFROM:+0200
TZOFFSETTO:+0100
TZNAME:CET
DTSTART:20251026T010000
END:STANDARD
END:VTIMEZONE
BEGIN:VEVENT
DTSTART;VALUE=DATE:20240414
DTEND;VALUE=DATE:20240415
DTSTAMP:20260423T182248
CREATED:20231210T120403Z
LAST-MODIFIED:20231210T120515Z
UID:4151-1713052800-1713139199@bsv-mittelfranken.de
SUMMARY:Trainer C Weiterbildung: Einführung in das Para Schwimmen
DESCRIPTION:Anmeldung
URL:https://bsv-mittelfranken.de/event/trainer-c-weiterbildung-einfuehrung-in-das-para-schwimmen
CATEGORIES:Lehrwesen
END:VEVENT
BEGIN:VEVENT
DTSTART;TZID=Europe/Berlin:20240417T190000
DTEND;TZID=Europe/Berlin:20240417T210000
DTSTAMP:20260423T182248
CREATED:20240311T102617Z
LAST-MODIFIED:20240312T201859Z
UID:4480-1713380400-1713387600@bsv-mittelfranken.de
SUMMARY:Informationsstammtisch
DESCRIPTION:Die von den Delegierten erwünschte Informationsveranstaltung des Bezirks findet wie folgt statt:\n\n\nam Mittwoch\, den 17.04.24\num 19:00 Uhr\nim „Rundblick“ in Uttenreuth\n\nBreslauer Str. 41\n91080 Uttenreuth\n\n\nHierzu seid ihr alle recht herzlich eingeladen.\nDie Informationsveranstaltung findet in Form eines Informationsstammtisches statt.\nEssen und Getränke müssen selbst gezahlt werden und werden vom Betreiber nach Karte angeboten.\nWir freuen uns auf eine zahlreiche Teilnahme!\n\nFür unsere Planung bitten wir bei einer Teilnahme um eine Rückmeldung mit Name\, Vorname\, Verein und gegebenenfalls Funktion unter vorsitzender@bsv-mittelfranken.de
URL:https://bsv-mittelfranken.de/event/informationsstammtisch
LOCATION:„Rundblick“ in Uttenreuth\, Breslauer Str. 41\, Uttenreuth\, 91080\, Deutschland
CATEGORIES:Bezirk
END:VEVENT
BEGIN:VEVENT
DTSTART;VALUE=DATE:20240420
DTEND;VALUE=DATE:20240421
DTSTAMP:20260423T182248
CREATED:20231108T114823Z
LAST-MODIFIED:20231108T114823Z
UID:4072-1713571200-1713657599@bsv-mittelfranken.de
SUMMARY:Kreismeisterschaften Süd-West Mittelfranken
DESCRIPTION:
URL:https://bsv-mittelfranken.de/event/kreismeisterschaften-sued-west-mittelfranken
LOCATION:Aquella Ansbach\, Am Stadion 2\, Ansbach\, 91522
CATEGORIES:Schwimmen
END:VEVENT
END:VCALENDAR