BEGIN:VCALENDAR
VERSION:2.0
PRODID:-//BSV Mittelfranken - ECPv6.15.20//NONSGML v1.0//EN
CALSCALE:GREGORIAN
METHOD:PUBLISH
X-ORIGINAL-URL:https://bsv-mittelfranken.de
X-WR-CALDESC:Veranstaltungen für BSV Mittelfranken
REFRESH-INTERVAL;VALUE=DURATION:PT1H
X-Robots-Tag:noindex
X-PUBLISHED-TTL:PT1H
BEGIN:VTIMEZONE
TZID:Europe/Berlin
BEGIN:DAYLIGHT
TZOFFSETFROM:+0100
TZOFFSETTO:+0200
TZNAME:CEST
DTSTART:20230326T010000
END:DAYLIGHT
BEGIN:STANDARD
TZOFFSETFROM:+0200
TZOFFSETTO:+0100
TZNAME:CET
DTSTART:20231029T010000
END:STANDARD
BEGIN:DAYLIGHT
TZOFFSETFROM:+0100
TZOFFSETTO:+0200
TZNAME:CEST
DTSTART:20240331T010000
END:DAYLIGHT
BEGIN:STANDARD
TZOFFSETFROM:+0200
TZOFFSETTO:+0100
TZNAME:CET
DTSTART:20241027T010000
END:STANDARD
BEGIN:DAYLIGHT
TZOFFSETFROM:+0100
TZOFFSETTO:+0200
TZNAME:CEST
DTSTART:20250330T010000
END:DAYLIGHT
BEGIN:STANDARD
TZOFFSETFROM:+0200
TZOFFSETTO:+0100
TZNAME:CET
DTSTART:20251026T010000
END:STANDARD
END:VTIMEZONE
BEGIN:VEVENT
DTSTART;VALUE=DATE:20240302
DTEND;VALUE=DATE:20240304
DTSTAMP:20260423T200329
CREATED:20240126T102303Z
LAST-MODIFIED:20240126T102303Z
UID:4300-1709337600-1709510399@bsv-mittelfranken.de
SUMMARY:Grundausbildung Anfängerschwimmen 2024-HER (Teil II)
DESCRIPTION:Anmeldung \nTermine: zwei Wochenenden (verpflichtende Teilnahme!) \nWochenende 1: 10/11.02. \nWochenende 2: 02./03.03.
URL:https://bsv-mittelfranken.de/event/grundausbildung-anfaengerschwimmen-2024-her-teil-ii
LOCATION:Hallenbad Herrieden\, Steinweg 12\, Herrieden\, Bayern\, 91567\, Deutschland
CATEGORIES:Lehrwesen
END:VEVENT
BEGIN:VEVENT
DTSTART;VALUE=DATE:20240316
DTEND;VALUE=DATE:20240318
DTSTAMP:20260423T200329
CREATED:20231106T220446Z
LAST-MODIFIED:20231106T220459Z
UID:4066-1710547200-1710719999@bsv-mittelfranken.de
SUMMARY:ISM (intern. Swim-Meeting)
DESCRIPTION:
URL:https://bsv-mittelfranken.de/event/ism-intern-swim-meeting
CATEGORIES:Schwimmen
END:VEVENT
BEGIN:VEVENT
DTSTART;VALUE=DATE:20240316
DTEND;VALUE=DATE:20240318
DTSTAMP:20260423T200329
CREATED:20240126T115252Z
LAST-MODIFIED:20240126T115252Z
UID:4304-1710547200-1710719999@bsv-mittelfranken.de
SUMMARY:BWB - Meisterschaften
DESCRIPTION:Ausschreibung BWB – Meisterschaften
URL:https://bsv-mittelfranken.de/event/bwb-meisterschaften
LOCATION:Fächerbad Karlsruhe\, Am Sportpark 1\, Karlsruhe\, Baden-Württemberg\, 76131\, Deutschland
CATEGORIES:Wasserspringen
END:VEVENT
BEGIN:VEVENT
DTSTART;VALUE=DATE:20240325
DTEND;VALUE=DATE:20240329
DTSTAMP:20260423T200329
CREATED:20231210T120833Z
LAST-MODIFIED:20231210T120833Z
UID:4157-1711324800-1711670399@bsv-mittelfranken.de
SUMMARY:Grundausbildung Anfängerschwimmen 2024-1
DESCRIPTION:Anmeldung
URL:https://bsv-mittelfranken.de/event/grundausbildung-anfaengerschwimmen-2024-1
LOCATION:Post SV Nürnberg – Ebensee\, Ziegenstraße 110\, Nürnberg\, Bayern\, 90482
CATEGORIES:Lehrwesen
END:VEVENT
END:VCALENDAR