BEGIN:VCALENDAR
VERSION:2.0
PRODID:-//BSV Mittelfranken - ECPv6.15.20//NONSGML v1.0//EN
CALSCALE:GREGORIAN
METHOD:PUBLISH
X-WR-CALNAME:BSV Mittelfranken
X-ORIGINAL-URL:https://bsv-mittelfranken.de
X-WR-CALDESC:Veranstaltungen für BSV Mittelfranken
REFRESH-INTERVAL;VALUE=DURATION:PT1H
X-Robots-Tag:noindex
X-PUBLISHED-TTL:PT1H
BEGIN:VTIMEZONE
TZID:Europe/Berlin
BEGIN:DAYLIGHT
TZOFFSETFROM:+0100
TZOFFSETTO:+0200
TZNAME:CEST
DTSTART:20220327T010000
END:DAYLIGHT
BEGIN:STANDARD
TZOFFSETFROM:+0200
TZOFFSETTO:+0100
TZNAME:CET
DTSTART:20221030T010000
END:STANDARD
BEGIN:DAYLIGHT
TZOFFSETFROM:+0100
TZOFFSETTO:+0200
TZNAME:CEST
DTSTART:20230326T010000
END:DAYLIGHT
BEGIN:STANDARD
TZOFFSETFROM:+0200
TZOFFSETTO:+0100
TZNAME:CET
DTSTART:20231029T010000
END:STANDARD
BEGIN:DAYLIGHT
TZOFFSETFROM:+0100
TZOFFSETTO:+0200
TZNAME:CEST
DTSTART:20240331T010000
END:DAYLIGHT
BEGIN:STANDARD
TZOFFSETFROM:+0200
TZOFFSETTO:+0100
TZNAME:CET
DTSTART:20241027T010000
END:STANDARD
END:VTIMEZONE
BEGIN:VEVENT
DTSTART;VALUE=DATE:20231030
DTEND;VALUE=DATE:20231103
DTSTAMP:20260424T015557
CREATED:20230411T204256Z
LAST-MODIFIED:20231025T085421Z
UID:3621-1698624000-1698969599@bsv-mittelfranken.de
SUMMARY:Grundausbildung Anfängerschwimmen MFR 2023-2
DESCRIPTION:Anmeldung
URL:https://bsv-mittelfranken.de/event/grundausbildung-anfaengerschwimmen-mfr-2023-2
LOCATION:Schulzentrum Berg\, Neumarkt\, 92318
CATEGORIES:Lehrwesen
END:VEVENT
BEGIN:VEVENT
DTSTART;VALUE=DATE:20231111
DTEND;VALUE=DATE:20231112
DTSTAMP:20260424T015557
CREATED:20221121T161943Z
LAST-MODIFIED:20221121T161943Z
UID:3080-1699660800-1699747199@bsv-mittelfranken.de
SUMMARY:Vergleich der 7 Bezirke
DESCRIPTION:
URL:https://bsv-mittelfranken.de/event/vergleich-der-7-bezirke
CATEGORIES:Schwimmen
END:VEVENT
BEGIN:VEVENT
DTSTART;VALUE=DATE:20231111
DTEND;VALUE=DATE:20231112
DTSTAMP:20260424T015557
CREATED:20221121T163249Z
LAST-MODIFIED:20221121T163249Z
UID:3114-1699660800-1699747199@bsv-mittelfranken.de
SUMMARY:Fürther Kinderschwimmen
DESCRIPTION:
URL:https://bsv-mittelfranken.de/event/fuerther-kinderschwimmen
LOCATION:Fürth
CATEGORIES:Schwimmen
END:VEVENT
BEGIN:VEVENT
DTSTART;VALUE=DATE:20231116
DTEND;VALUE=DATE:20231120
DTSTAMP:20260424T015557
CREATED:20230418T221839Z
LAST-MODIFIED:20230418T221839Z
UID:3675-1700092800-1700438399@bsv-mittelfranken.de
SUMMARY:Deutsche Kurzbahnmeisterschaften
DESCRIPTION:
URL:https://bsv-mittelfranken.de/event/deutsche-kurzbahnmeisterschaften
CATEGORIES:Schwimmen
END:VEVENT
BEGIN:VEVENT
DTSTART;VALUE=DATE:20231118
DTEND;VALUE=DATE:20231119
DTSTAMP:20260424T015557
CREATED:20230418T221745Z
LAST-MODIFIED:20230418T221745Z
UID:3673-1700265600-1700351999@bsv-mittelfranken.de
SUMMARY:Süddeutscher Jugendländervergleich in Bayern
DESCRIPTION:
URL:https://bsv-mittelfranken.de/event/sueddeutscher-jugendlaendervergleich-in-bayern
CATEGORIES:Schwimmen
END:VEVENT
BEGIN:VEVENT
DTSTART;VALUE=DATE:20231119
DTEND;VALUE=DATE:20231120
DTSTAMP:20260424T015557
CREATED:20221121T163416Z
LAST-MODIFIED:20221121T163416Z
UID:3118-1700352000-1700438399@bsv-mittelfranken.de
SUMMARY:Nikolausschwimmen
DESCRIPTION:
URL:https://bsv-mittelfranken.de/event/nikolausschwimmen-2
LOCATION:Erlangen
CATEGORIES:Schwimmen
END:VEVENT
BEGIN:VEVENT
DTSTART;VALUE=DATE:20231125
DTEND;VALUE=DATE:20231126
DTSTAMP:20260424T015557
CREATED:20221121T162052Z
LAST-MODIFIED:20221121T162052Z
UID:3082-1700870400-1700956799@bsv-mittelfranken.de
SUMMARY:Süddeutscher Jugendländervergleich
DESCRIPTION:
URL:https://bsv-mittelfranken.de/event/sueddeutscher-jugendlaendervergleich
CATEGORIES:Schwimmen
END:VEVENT
BEGIN:VEVENT
DTSTART;VALUE=DATE:20231125
DTEND;VALUE=DATE:20231126
DTSTAMP:20260424T015557
CREATED:20221121T163339Z
LAST-MODIFIED:20231121T215711Z
UID:3116-1700870400-1700956799@bsv-mittelfranken.de
SUMMARY:DMS-J Bezirk
DESCRIPTION:Ausschreibung_DMSJ_2023 \nMeldeergebnis_DMSJ_2023
URL:https://bsv-mittelfranken.de/event/dms-j-bezirk
LOCATION:Katzwangbad\, Helmut-Bloß-Str. 6\, Nürnberg\, 90453
CATEGORIES:Schwimmen
END:VEVENT
END:VCALENDAR