BEGIN:VCALENDAR
VERSION:2.0
PRODID:-//BSV Mittelfranken - ECPv6.15.20//NONSGML v1.0//EN
CALSCALE:GREGORIAN
METHOD:PUBLISH
X-WR-CALNAME:BSV Mittelfranken
X-ORIGINAL-URL:https://bsv-mittelfranken.de
X-WR-CALDESC:Veranstaltungen für BSV Mittelfranken
REFRESH-INTERVAL;VALUE=DURATION:PT1H
X-Robots-Tag:noindex
X-PUBLISHED-TTL:PT1H
BEGIN:VTIMEZONE
TZID:Europe/Berlin
BEGIN:DAYLIGHT
TZOFFSETFROM:+0100
TZOFFSETTO:+0200
TZNAME:CEST
DTSTART:20220327T010000
END:DAYLIGHT
BEGIN:STANDARD
TZOFFSETFROM:+0200
TZOFFSETTO:+0100
TZNAME:CET
DTSTART:20221030T010000
END:STANDARD
BEGIN:DAYLIGHT
TZOFFSETFROM:+0100
TZOFFSETTO:+0200
TZNAME:CEST
DTSTART:20230326T010000
END:DAYLIGHT
BEGIN:STANDARD
TZOFFSETFROM:+0200
TZOFFSETTO:+0100
TZNAME:CET
DTSTART:20231029T010000
END:STANDARD
BEGIN:DAYLIGHT
TZOFFSETFROM:+0100
TZOFFSETTO:+0200
TZNAME:CEST
DTSTART:20240331T010000
END:DAYLIGHT
BEGIN:STANDARD
TZOFFSETFROM:+0200
TZOFFSETTO:+0100
TZNAME:CET
DTSTART:20241027T010000
END:STANDARD
END:VTIMEZONE
BEGIN:VEVENT
DTSTART;VALUE=DATE:20230916
DTEND;VALUE=DATE:20230917
DTSTAMP:20260424T044358
CREATED:20230418T221241Z
LAST-MODIFIED:20230418T221241Z
UID:3667-1694822400-1694908799@bsv-mittelfranken.de
SUMMARY:BSV Trainertagung
DESCRIPTION:
URL:https://bsv-mittelfranken.de/event/bsv-trainertagung
LOCATION:Schulzentrum Berg\, Neumarkt\, 92318
CATEGORIES:Schwimmen
END:VEVENT
BEGIN:VEVENT
DTSTART;VALUE=DATE:20230917
DTEND;VALUE=DATE:20230918
DTSTAMP:20260424T044358
CREATED:20230418T221322Z
LAST-MODIFIED:20230418T221322Z
UID:3669-1694908800-1694995199@bsv-mittelfranken.de
SUMMARY:BSV FAS Schwimmen
DESCRIPTION:
URL:https://bsv-mittelfranken.de/event/bsv-fas-schwimmen
LOCATION:Schulzentrum Berg\, Neumarkt\, 92318
CATEGORIES:Schwimmen
END:VEVENT
BEGIN:VEVENT
DTSTART;VALUE=DATE:20230923
DTEND;VALUE=DATE:20230924
DTSTAMP:20260424T044358
CREATED:20221121T163217Z
LAST-MODIFIED:20230906T144406Z
UID:3112-1695427200-1695513599@bsv-mittelfranken.de
SUMMARY:Technikersitzung
DESCRIPTION:Einladung Technikersitzung 2023
URL:https://bsv-mittelfranken.de/event/technikersitzung-3
CATEGORIES:Bezirk
END:VEVENT
BEGIN:VEVENT
DTSTART;VALUE=DATE:20230924
DTEND;VALUE=DATE:20230925
DTSTAMP:20260424T044358
CREATED:20221128T002240Z
LAST-MODIFIED:20221128T002329Z
UID:3181-1695513600-1695599999@bsv-mittelfranken.de
SUMMARY:Trainer C Weiterbildung – Schwimmen 2023-2
DESCRIPTION:Ausschreibung: Trainer C Weiterbildung – Schwimmen 2023-2
URL:https://bsv-mittelfranken.de/event/trainer-c-weiterbildung-schwimmen-2023-2
LOCATION:Schulzentrum Berg\, Neumarkt\, 92318
CATEGORIES:Lehrwesen
END:VEVENT
END:VCALENDAR