BEGIN:VCALENDAR
VERSION:2.0
PRODID:-//BSV Mittelfranken - ECPv6.15.20//NONSGML v1.0//EN
CALSCALE:GREGORIAN
METHOD:PUBLISH
X-WR-CALNAME:BSV Mittelfranken
X-ORIGINAL-URL:https://bsv-mittelfranken.de
X-WR-CALDESC:Veranstaltungen für BSV Mittelfranken
REFRESH-INTERVAL;VALUE=DURATION:PT1H
X-Robots-Tag:noindex
X-PUBLISHED-TTL:PT1H
BEGIN:VTIMEZONE
TZID:Europe/Berlin
BEGIN:DAYLIGHT
TZOFFSETFROM:+0100
TZOFFSETTO:+0200
TZNAME:CEST
DTSTART:20220327T010000
END:DAYLIGHT
BEGIN:STANDARD
TZOFFSETFROM:+0200
TZOFFSETTO:+0100
TZNAME:CET
DTSTART:20221030T010000
END:STANDARD
BEGIN:DAYLIGHT
TZOFFSETFROM:+0100
TZOFFSETTO:+0200
TZNAME:CEST
DTSTART:20230326T010000
END:DAYLIGHT
BEGIN:STANDARD
TZOFFSETFROM:+0200
TZOFFSETTO:+0100
TZNAME:CET
DTSTART:20231029T010000
END:STANDARD
BEGIN:DAYLIGHT
TZOFFSETFROM:+0100
TZOFFSETTO:+0200
TZNAME:CEST
DTSTART:20240331T010000
END:DAYLIGHT
BEGIN:STANDARD
TZOFFSETFROM:+0200
TZOFFSETTO:+0100
TZNAME:CET
DTSTART:20241027T010000
END:STANDARD
END:VTIMEZONE
BEGIN:VEVENT
DTSTART;VALUE=DATE:20230701
DTEND;VALUE=DATE:20230703
DTSTAMP:20260424T080515
CREATED:20221121T163108Z
LAST-MODIFIED:20230629T204546Z
UID:3108-1688169600-1688342399@bsv-mittelfranken.de
SUMMARY:Bezirksmeisterschaften
DESCRIPTION:Ausschreibung \nMeldeergebnis \n 
URL:https://bsv-mittelfranken.de/event/bezirksmeisterschaften
LOCATION:Erlangen
CATEGORIES:Schwimmen
END:VEVENT
BEGIN:VEVENT
DTSTART;VALUE=DATE:20230706
DTEND;VALUE=DATE:20230710
DTSTAMP:20260424T080515
CREATED:20230418T220800Z
LAST-MODIFIED:20230418T220800Z
UID:3665-1688601600-1688947199@bsv-mittelfranken.de
SUMMARY:Deutsche Meisterschaften "Die Finals"
DESCRIPTION:Veranstaltungswebsite: \nDeutsche Meisterschaften „Die Finals“
URL:https://bsv-mittelfranken.de/event/deutsche-meisterschaften-die-finals
LOCATION:Schwimm- und Sprunghalle im Europa-Sportpark\, Paul-Heyse-Str. 26\, Berlin\, 10407
CATEGORIES:Schwimmen
END:VEVENT
BEGIN:VEVENT
DTSTART;VALUE=DATE:20230710
DTEND;VALUE=DATE:20230716
DTSTAMP:20260424T080515
CREATED:20230115T134250Z
LAST-MODIFIED:20230115T134250Z
UID:3380-1688947200-1689465599@bsv-mittelfranken.de
SUMMARY:Kroatien Open Masters Diving
DESCRIPTION:
URL:https://bsv-mittelfranken.de/event/kroatien-open-masters-diving
LOCATION:Rijeka
CATEGORIES:Wasserspringen
END:VEVENT
BEGIN:VEVENT
DTSTART;VALUE=DATE:20230716
DTEND;VALUE=DATE:20230717
DTSTAMP:20260424T080515
CREATED:20221121T163140Z
LAST-MODIFIED:20221121T163140Z
UID:3110-1689465600-1689551999@bsv-mittelfranken.de
SUMMARY:Kinderschwimmen FCN
DESCRIPTION:
URL:https://bsv-mittelfranken.de/event/kinderschwimmen-fcn
LOCATION:Langwasserbad Nürnberg\, Breslauer Str. 251\, Nürnberg\, Bayern\, 90471\, Deutschland
CATEGORIES:Schwimmen
END:VEVENT
BEGIN:VEVENT
DTSTART;VALUE=DATE:20230721
DTEND;VALUE=DATE:20230724
DTSTAMP:20260424T080515
CREATED:20221121T161630Z
LAST-MODIFIED:20221121T161630Z
UID:3074-1689897600-1690156799@bsv-mittelfranken.de
SUMMARY:Bayerische Jahrgangsmeisterschaften
DESCRIPTION:
URL:https://bsv-mittelfranken.de/event/bayerische-jahrgangsmeisterschaften-2
LOCATION:Ingolstadt
CATEGORIES:Schwimmen
END:VEVENT
BEGIN:VEVENT
DTSTART;VALUE=DATE:20230729
DTEND;VALUE=DATE:20230730
DTSTAMP:20260424T080515
CREATED:20221121T161806Z
LAST-MODIFIED:20221121T161806Z
UID:3076-1690588800-1690675199@bsv-mittelfranken.de
SUMMARY:Bay. Meisterschaften Freiwasser / 1. DG Bayerncup
DESCRIPTION:
URL:https://bsv-mittelfranken.de/event/bay-meisterschaften-freiwasser-1-dg-bayerncup-2
LOCATION:Wöhrseebad\, Wöhrsee 2\, Burghausen\, 84489
CATEGORIES:Schwimmen
END:VEVENT
BEGIN:VEVENT
DTSTART;VALUE=DATE:20230731
DTEND;VALUE=DATE:20230812
DTSTAMP:20260424T080515
CREATED:20230115T134340Z
LAST-MODIFIED:20230115T134340Z
UID:3383-1690761600-1691798399@bsv-mittelfranken.de
SUMMARY:Weltmeisterschaften Japan
DESCRIPTION:
URL:https://bsv-mittelfranken.de/event/weltmeisterschaften-japan
LOCATION:Fukuoka
CATEGORIES:Wasserspringen
END:VEVENT
END:VCALENDAR