BEGIN:VCALENDAR
VERSION:2.0
PRODID:-//BSV Mittelfranken - ECPv6.15.20//NONSGML v1.0//EN
CALSCALE:GREGORIAN
METHOD:PUBLISH
X-WR-CALNAME:BSV Mittelfranken
X-ORIGINAL-URL:https://bsv-mittelfranken.de
X-WR-CALDESC:Veranstaltungen für BSV Mittelfranken
REFRESH-INTERVAL;VALUE=DURATION:PT1H
X-Robots-Tag:noindex
X-PUBLISHED-TTL:PT1H
BEGIN:VTIMEZONE
TZID:Europe/Berlin
BEGIN:DAYLIGHT
TZOFFSETFROM:+0100
TZOFFSETTO:+0200
TZNAME:CEST
DTSTART:20220327T010000
END:DAYLIGHT
BEGIN:STANDARD
TZOFFSETFROM:+0200
TZOFFSETTO:+0100
TZNAME:CET
DTSTART:20221030T010000
END:STANDARD
BEGIN:DAYLIGHT
TZOFFSETFROM:+0100
TZOFFSETTO:+0200
TZNAME:CEST
DTSTART:20230326T010000
END:DAYLIGHT
BEGIN:STANDARD
TZOFFSETFROM:+0200
TZOFFSETTO:+0100
TZNAME:CET
DTSTART:20231029T010000
END:STANDARD
BEGIN:DAYLIGHT
TZOFFSETFROM:+0100
TZOFFSETTO:+0200
TZNAME:CEST
DTSTART:20240331T010000
END:DAYLIGHT
BEGIN:STANDARD
TZOFFSETFROM:+0200
TZOFFSETTO:+0100
TZNAME:CET
DTSTART:20241027T010000
END:STANDARD
END:VTIMEZONE
BEGIN:VEVENT
DTSTART;VALUE=DATE:20230601
DTEND;VALUE=DATE:20230605
DTSTAMP:20260424T095004
CREATED:20230115T134209Z
LAST-MODIFIED:20230115T134209Z
UID:3378-1685577600-1685923199@bsv-mittelfranken.de
SUMMARY:Deutschen Internationalen Masters
DESCRIPTION:
URL:https://bsv-mittelfranken.de/event/deutschen-internationalen-masters
CATEGORIES:Wasserspringen
END:VEVENT
BEGIN:VEVENT
DTSTART;VALUE=DATE:20230610
DTEND;VALUE=DATE:20230611
DTSTAMP:20260424T095004
CREATED:20221121T161543Z
LAST-MODIFIED:20221121T161543Z
UID:3072-1686355200-1686441599@bsv-mittelfranken.de
SUMMARY:Bay. Meisterschaften Freiwasser / 1. DG Bayerncup
DESCRIPTION:
URL:https://bsv-mittelfranken.de/event/bay-meisterschaften-freiwasser-1-dg-bayerncup
LOCATION:Burghausen\, Wöhrsee 2\, Burghausen\, 84489
CATEGORIES:Schwimmen
END:VEVENT
BEGIN:VEVENT
DTSTART;VALUE=DATE:20230616
DTEND;VALUE=DATE:20230619
DTSTAMP:20260424T095004
CREATED:20230418T215922Z
LAST-MODIFIED:20230418T215922Z
UID:3657-1686873600-1687132799@bsv-mittelfranken.de
SUMMARY:Deutsche Meisterschaften Schwimmerischer Mehrkampf
DESCRIPTION:Ausschreibung
URL:https://bsv-mittelfranken.de/event/deutsche-meisterschaften-schwimmerischer-mehrkampf
LOCATION:Sportbad NeckarPark\, Lenore-Volz-Straße 2\, Stuttgart\, 70372
CATEGORIES:Schwimmen
END:VEVENT
BEGIN:VEVENT
DTSTART;VALUE=DATE:20230622
DTEND;VALUE=DATE:20230625
DTSTAMP:20260424T095004
CREATED:20230418T220204Z
LAST-MODIFIED:20230418T220204Z
UID:3661-1687392000-1687651199@bsv-mittelfranken.de
SUMMARY:Deutsche Freiwassermeisterschaften
DESCRIPTION:Ausschreibung
URL:https://bsv-mittelfranken.de/event/deutsche-freiwassermeisterschaften
LOCATION:Guggenberger See\, Guggenberger See\, Neutraubling\, 93073
CATEGORIES:Schwimmen
END:VEVENT
END:VCALENDAR