BEGIN:VCALENDAR
VERSION:2.0
PRODID:-//BSV Mittelfranken - ECPv6.15.20//NONSGML v1.0//EN
CALSCALE:GREGORIAN
METHOD:PUBLISH
X-WR-CALNAME:BSV Mittelfranken
X-ORIGINAL-URL:https://bsv-mittelfranken.de
X-WR-CALDESC:Veranstaltungen für BSV Mittelfranken
REFRESH-INTERVAL;VALUE=DURATION:PT1H
X-Robots-Tag:noindex
X-PUBLISHED-TTL:PT1H
BEGIN:VTIMEZONE
TZID:Europe/Berlin
BEGIN:DAYLIGHT
TZOFFSETFROM:+0100
TZOFFSETTO:+0200
TZNAME:CEST
DTSTART:20220327T010000
END:DAYLIGHT
BEGIN:STANDARD
TZOFFSETFROM:+0200
TZOFFSETTO:+0100
TZNAME:CET
DTSTART:20221030T010000
END:STANDARD
BEGIN:DAYLIGHT
TZOFFSETFROM:+0100
TZOFFSETTO:+0200
TZNAME:CEST
DTSTART:20230326T010000
END:DAYLIGHT
BEGIN:STANDARD
TZOFFSETFROM:+0200
TZOFFSETTO:+0100
TZNAME:CET
DTSTART:20231029T010000
END:STANDARD
BEGIN:DAYLIGHT
TZOFFSETFROM:+0100
TZOFFSETTO:+0200
TZNAME:CEST
DTSTART:20240331T010000
END:DAYLIGHT
BEGIN:STANDARD
TZOFFSETFROM:+0200
TZOFFSETTO:+0100
TZNAME:CET
DTSTART:20241027T010000
END:STANDARD
END:VTIMEZONE
BEGIN:VEVENT
DTSTART;VALUE=DATE:20230105
DTEND;VALUE=DATE:20230107
DTSTAMP:20260424T183705
CREATED:20221121T162447Z
LAST-MODIFIED:20221218T130947Z
UID:3086-1672876800-1673049599@bsv-mittelfranken.de
SUMMARY:24h-Schwimmen
DESCRIPTION:Anmeldung
URL:https://bsv-mittelfranken.de/event/24h-schwimmen
LOCATION:Erlangen
CATEGORIES:Schwimmen
END:VEVENT
BEGIN:VEVENT
DTSTART;TZID=Europe/Berlin:20230114T090000
DTEND;TZID=Europe/Berlin:20230114T180000
DTSTAMP:20260424T183705
CREATED:20221218T130626Z
LAST-MODIFIED:20221218T130626Z
UID:3236-1673686800-1673719200@bsv-mittelfranken.de
SUMMARY:Kampfrichter Ausbildung – Lehrgang WKR 23-01-14
DESCRIPTION:Ausschreibung \nAnmeldung
URL:https://bsv-mittelfranken.de/event/kampfrichter-ausbildung-lehrgang-wkr-23-01-14
CATEGORIES:Kampfrichter
END:VEVENT
BEGIN:VEVENT
DTSTART;VALUE=DATE:20230120
DTEND;VALUE=DATE:20230122
DTSTAMP:20260424T183705
CREATED:20221121T160808Z
LAST-MODIFIED:20221121T161227Z
UID:3068-1674172800-1674345599@bsv-mittelfranken.de
SUMMARY:Bayerische Meisterschaften Lange Strecke
DESCRIPTION:
URL:https://bsv-mittelfranken.de/event/bayerische-meisterschaften-lange-strecke-2023
LOCATION:Bayreuth
CATEGORIES:Schwimmen
END:VEVENT
BEGIN:VEVENT
DTSTART;VALUE=DATE:20230128
DTEND;VALUE=DATE:20230129
DTSTAMP:20260424T183705
CREATED:20221121T162636Z
LAST-MODIFIED:20221218T151210Z
UID:3090-1674864000-1674950399@bsv-mittelfranken.de
SUMMARY:Kreismeisterschaften Nord-Ost
DESCRIPTION:Ausschreibung
URL:https://bsv-mittelfranken.de/event/kreismeisterschaften-nord-ost-2
LOCATION:CJT Gymnasium Hallenbad Lauf\, Hardtstraße 37\, 91207 Lauf a.d. Pegnitz\, Bayern\, 91207\, Deutschland
CATEGORIES:Schwimmen
END:VEVENT
BEGIN:VEVENT
DTSTART;VALUE=DATE:20230128
DTEND;VALUE=DATE:20230130
DTSTAMP:20260424T183705
CREATED:20230418T213450Z
LAST-MODIFIED:20230418T213937Z
UID:3633-1674864000-1675036799@bsv-mittelfranken.de
SUMMARY:DMSJ - Bundesfinale
DESCRIPTION:
URL:https://bsv-mittelfranken.de/event/dmsj-bundesfinale
LOCATION:Wuppertal\, Südstraße 29\, Wuppertal\, 42103
CATEGORIES:Schwimmen
END:VEVENT
END:VCALENDAR