BEGIN:VCALENDAR
VERSION:2.0
PRODID:-//BSV Mittelfranken - ECPv6.15.20//NONSGML v1.0//EN
CALSCALE:GREGORIAN
METHOD:PUBLISH
X-ORIGINAL-URL:https://bsv-mittelfranken.de
X-WR-CALDESC:Veranstaltungen für BSV Mittelfranken
REFRESH-INTERVAL;VALUE=DURATION:PT1H
X-Robots-Tag:noindex
X-PUBLISHED-TTL:PT1H
BEGIN:VTIMEZONE
TZID:Europe/Berlin
BEGIN:DAYLIGHT
TZOFFSETFROM:+0100
TZOFFSETTO:+0200
TZNAME:CEST
DTSTART:20210328T010000
END:DAYLIGHT
BEGIN:STANDARD
TZOFFSETFROM:+0200
TZOFFSETTO:+0100
TZNAME:CET
DTSTART:20211031T010000
END:STANDARD
BEGIN:DAYLIGHT
TZOFFSETFROM:+0100
TZOFFSETTO:+0200
TZNAME:CEST
DTSTART:20220327T010000
END:DAYLIGHT
BEGIN:STANDARD
TZOFFSETFROM:+0200
TZOFFSETTO:+0100
TZNAME:CET
DTSTART:20221030T010000
END:STANDARD
BEGIN:DAYLIGHT
TZOFFSETFROM:+0100
TZOFFSETTO:+0200
TZNAME:CEST
DTSTART:20230326T010000
END:DAYLIGHT
BEGIN:STANDARD
TZOFFSETFROM:+0200
TZOFFSETTO:+0100
TZNAME:CET
DTSTART:20231029T010000
END:STANDARD
END:VTIMEZONE
BEGIN:VEVENT
DTSTART;TZID=Europe/Berlin:20221001T090000
DTEND;TZID=Europe/Berlin:20221001T180000
DTSTAMP:20260424T231614
CREATED:20220731T061759Z
LAST-MODIFIED:20220731T061759Z
UID:2690-1664614800-1664647200@bsv-mittelfranken.de
SUMMARY:Kampfrichter Ausbildung WKR 22-10-01
DESCRIPTION:Lehrgangstermin: Samstag\, 01.10.22 von 9:00 bis ca. 18:00 Uhr (Mittagspause: ca. 12.00 bis 13.00 Uhr) \nLehrgangsort: TSV Lauf (Röthenbacher Straße 61\, 91207 Lauf an der Pegnitz) \nTeilnehmerzahl: max. 25 Personen \nMitzubringen sind:  \n\nLichtbild neueren Datums\nSchreibutensilien\nAusgedruckte WB\, bestehend aus den Teilen (Wettkampfbestimmungen: Allgemeiner Teil; Wettkampfbestimmungen: Fachteil Schwimmen (WB-FT SW); Wettkampfbestimmungen: Fachteil Masters (WB-FT MS))\n\nHier findet ihr die Ausschreibung zur Kampfrichter Ausbildung.
URL:https://bsv-mittelfranken.de/event/kampfrichter-ausbildung-wkr-22-10-01
LOCATION:Gasthof „Zur Einkehr“\, Dorfstr. 14\, Erlangen\, 91056\, Deutschland
CATEGORIES:Kampfrichter
END:VEVENT
BEGIN:VEVENT
DTSTART;VALUE=DATE:20221008
DTEND;VALUE=DATE:20221009
DTSTAMP:20260424T231614
CREATED:20220911T100911Z
LAST-MODIFIED:20221009T133746Z
UID:2743-1665187200-1665273599@bsv-mittelfranken.de
SUMMARY:Bezirks Kurzbahnmeisterschaften
DESCRIPTION:Ausschreibung: Bezirks Kurzbahnmeisterschaften \nMeldeergebnis: Bezirks Kurzbahnmeisterschaften \nProtokoll: Bezirks Kurzbahnmeisterschaften
URL:https://bsv-mittelfranken.de/event/bezirks-kurzbahnmeisterschaften
LOCATION:Langwasserbad Nürnberg\, Breslauer Str. 251\, Nürnberg\, Bayern\, 90471\, Deutschland
CATEGORIES:Schwimmen
END:VEVENT
BEGIN:VEVENT
DTSTART;TZID=Europe/Berlin:20221015T080000
DTEND;TZID=Europe/Berlin:20221016T170000
DTSTAMP:20260424T231614
CREATED:20221002T182543Z
LAST-MODIFIED:20221002T182543Z
UID:2768-1665820800-1665939600@bsv-mittelfranken.de
SUMMARY:Bayerische Kurzbahnmeisterschaften 2022
DESCRIPTION:Ausschreibung: Bayerische Kurzbahnmeisterschaften
URL:https://bsv-mittelfranken.de/event/bayerische-kurzbahnmeisterschaften-2022
LOCATION:Ingolstadt
CATEGORIES:Schwimmen
END:VEVENT
BEGIN:VEVENT
DTSTART;VALUE=DATE:20221022
DTEND;VALUE=DATE:20221023
DTSTAMP:20260424T231614
CREATED:20221002T182732Z
LAST-MODIFIED:20221003T081542Z
UID:2773-1666396800-1666483199@bsv-mittelfranken.de
SUMMARY:DMSJ Bezirksfinale Mittelfranken
DESCRIPTION:Ausschreibung: DMSJ 2022
URL:https://bsv-mittelfranken.de/event/dmsj-bezirksfinale-mittelfranken
LOCATION:Katzwangbad\, Helmut-Bloß-Str. 6\, Nürnberg\, 90453
CATEGORIES:Schwimmen
END:VEVENT
BEGIN:VEVENT
DTSTART;TZID=Europe/Berlin:20221029T100000
DTEND;TZID=Europe/Berlin:20221029T130000
DTSTAMP:20260424T231614
CREATED:20221028T062818Z
LAST-MODIFIED:20221028T062923Z
UID:2807-1667037600-1667048400@bsv-mittelfranken.de
SUMMARY:Technikersitzung
DESCRIPTION:Einladung Technikersitzung
URL:https://bsv-mittelfranken.de/event/technikersitzung-2
LOCATION:Gaststätte Rundblick\, Breslauer Str. 41\, Uttenreuth\, 91080
CATEGORIES:Bezirk,Schwimmen
END:VEVENT
BEGIN:VEVENT
DTSTART;TZID=Europe/Berlin:20221031T080000
DTEND;TZID=Europe/Berlin:20221103T170000
DTSTAMP:20260424T231614
CREATED:20220111T090410Z
LAST-MODIFIED:20220111T090410Z
UID:2400-1667203200-1667494800@bsv-mittelfranken.de
SUMMARY:Grundausbildung Anfängerschwimmen MFR 2022-1
DESCRIPTION:Der Kurs findet in den Herbstferien statt und beginnt am 31. Oktober 2022. \nInhalte: Grundlage des Lehrgangs ist das DSV Kursleiterbuch – Schwimmen lernen. Die Inhalte werden mittels Theorieeinheiten\, Gruppenarbeiten\, sowie Praxiseinheiten vermittelt. \nVorraussetzung: Mindestalter 16 Jahre\, aktueller Rettungsschwimmer Bronze\, 1. Hilfe Nachweis und Bestätigung des Vereins. \nJetzt anmelden
URL:https://bsv-mittelfranken.de/event/grundausbildung-anfaengerschwimmen-mfr-2022-1
LOCATION:Schulzentrum Berg\, Neumarkt\, 92318
CATEGORIES:Lehrwesen
END:VEVENT
END:VCALENDAR